BEGIN:VCALENDAR
VERSION:2.0
PRODID:-//City of Willoughby, Ohio - ECPv6.15.20//NONSGML v1.0//EN
CALSCALE:GREGORIAN
METHOD:PUBLISH
X-WR-CALNAME:City of Willoughby, Ohio
X-ORIGINAL-URL:https://willoughbyohio.com
X-WR-CALDESC:Events for City of Willoughby, Ohio
REFRESH-INTERVAL;VALUE=DURATION:PT1H
X-Robots-Tag:noindex
X-PUBLISHED-TTL:PT1H
BEGIN:VTIMEZONE
TZID:America/Chicago
BEGIN:DAYLIGHT
TZOFFSETFROM:-0600
TZOFFSETTO:-0500
TZNAME:CDT
DTSTART:20230312T080000
END:DAYLIGHT
BEGIN:STANDARD
TZOFFSETFROM:-0500
TZOFFSETTO:-0600
TZNAME:CST
DTSTART:20231105T070000
END:STANDARD
BEGIN:DAYLIGHT
TZOFFSETFROM:-0600
TZOFFSETTO:-0500
TZNAME:CDT
DTSTART:20240310T080000
END:DAYLIGHT
BEGIN:STANDARD
TZOFFSETFROM:-0500
TZOFFSETTO:-0600
TZNAME:CST
DTSTART:20241103T070000
END:STANDARD
BEGIN:DAYLIGHT
TZOFFSETFROM:-0600
TZOFFSETTO:-0500
TZNAME:CDT
DTSTART:20250309T080000
END:DAYLIGHT
BEGIN:STANDARD
TZOFFSETFROM:-0500
TZOFFSETTO:-0600
TZNAME:CST
DTSTART:20251102T070000
END:STANDARD
END:VTIMEZONE
BEGIN:VEVENT
DTSTART;TZID=America/Chicago:20240612T183000
DTEND;TZID=America/Chicago:20240612T203000
DTSTAMP:20260420T155513
CREATED:20240321T112857Z
LAST-MODIFIED:20240321T112857Z
UID:32130-1718217000-1718224200@willoughbyohio.com
SUMMARY:Summer Concert - DISCO INFERNO
DESCRIPTION:Disco Inferno is back this season and ready to bring the boogie! Bring a blanket or chair and join us for an evening listening to your favorite 70’s and Disco hits!\n\nFood trucks and the beer/wine tent open at 5:30 pm. Concert from 6:30pm – 8:30pm at the pavilion by the lake.\nFood trucks:\nDynamite Dawgs\nFungry\nChef T’s\nKettle Corn Lou\n\nCheck out the band here: https://www.facebook.com/DiscoInfernoCleveland \nSee less
URL:https://willoughbyohio.com/event/summer-concert-disco-inferno/
LOCATION:osborne park\, 38575 Lakeshore Blvd\, Willoughby\, OH\, 44094\, United States
CATEGORIES:Community
ATTACH;FMTTYPE=image/png:https://willoughbyohio.com/wp-content/uploads/2023/04/disco-inferno-web.png
END:VEVENT
BEGIN:VEVENT
DTSTART;TZID=America/Chicago:20240612T190000
DTEND;TZID=America/Chicago:20240612T210000
DTSTAMP:20260420T155513
CREATED:20231004T133141Z
LAST-MODIFIED:20240725T124108Z
UID:31536-1718218800-1718226000@willoughbyohio.com
SUMMARY:Board of Zoning Appeals
DESCRIPTION:
URL:https://willoughbyohio.com/event/board-of-zoning-appeals-5-2024-06-12/
LOCATION:City Hall – C Room\, 1 Public Square\, Willoughby\, OH\, 44094\, United States
CATEGORIES:Board of Zoning Appeals,Public Meetings
END:VEVENT
END:VCALENDAR