BEGIN:VCALENDAR
VERSION:2.0
PRODID:-//City of Willoughby, Ohio - ECPv6.15.20//NONSGML v1.0//EN
CALSCALE:GREGORIAN
METHOD:PUBLISH
X-WR-CALNAME:City of Willoughby, Ohio
X-ORIGINAL-URL:https://willoughbyohio.com
X-WR-CALDESC:Events for City of Willoughby, Ohio
REFRESH-INTERVAL;VALUE=DURATION:PT1H
X-Robots-Tag:noindex
X-PUBLISHED-TTL:PT1H
BEGIN:VTIMEZONE
TZID:America/Chicago
BEGIN:DAYLIGHT
TZOFFSETFROM:-0600
TZOFFSETTO:-0500
TZNAME:CDT
DTSTART:20230312T080000
END:DAYLIGHT
BEGIN:STANDARD
TZOFFSETFROM:-0500
TZOFFSETTO:-0600
TZNAME:CST
DTSTART:20231105T070000
END:STANDARD
BEGIN:DAYLIGHT
TZOFFSETFROM:-0600
TZOFFSETTO:-0500
TZNAME:CDT
DTSTART:20240310T080000
END:DAYLIGHT
BEGIN:STANDARD
TZOFFSETFROM:-0500
TZOFFSETTO:-0600
TZNAME:CST
DTSTART:20241103T070000
END:STANDARD
BEGIN:DAYLIGHT
TZOFFSETFROM:-0600
TZOFFSETTO:-0500
TZNAME:CDT
DTSTART:20250309T080000
END:DAYLIGHT
BEGIN:STANDARD
TZOFFSETFROM:-0500
TZOFFSETTO:-0600
TZNAME:CST
DTSTART:20251102T070000
END:STANDARD
END:VTIMEZONE
BEGIN:VEVENT
DTSTART;TZID=America/Chicago:20241207T090000
DTEND;TZID=America/Chicago:20241207T103000
DTSTAMP:20260422T231953
CREATED:20241107T173508Z
LAST-MODIFIED:20241107T173508Z
UID:33063-1733562000-1733567400@willoughbyohio.com
SUMMARY:Breakfast with Santa
DESCRIPTION:Breakfast is $12 per person ($10pp for residents; children 2 and under are $5) \nBreakfast includes: pancake\, sausage\, fruit\, juice\, coffee. ALL individuals attending the breakfast are required to register. \nJerrys Photography will be joining us to capture your family picture with Santa.\nRegistration includes a digital photograph that will be emailed to you.\nYou will also have the option to purchase additional photographs through Jerrys Photography \nREGISTER ONLINE HERE \nRegister by phone: 440.953.4200 (M-F 7:30 am – 4:30 pm) \n 
URL:https://willoughbyohio.com/event/breakfast-with-santa/
LOCATION:Willoughby Senior Center\, 36939 Ridge Road\, Willoughby\, OH\, 44094\, United States
CATEGORIES:Community
ATTACH;FMTTYPE=image/jpeg:https://willoughbyohio.com/wp-content/uploads/2022/11/breakfast-with-santa-.jpg
END:VEVENT
BEGIN:VEVENT
DTSTART;TZID=America/Chicago:20241207T100000
DTEND;TZID=America/Chicago:20241207T140000
DTSTAMP:20260422T231953
CREATED:20241107T192215Z
LAST-MODIFIED:20241107T193019Z
UID:33068-1733565600-1733580000@willoughbyohio.com
SUMMARY:Winter Market
DESCRIPTION:Join us at the 3rd annual Winter Market hosted by The Heart of Willoughby as part of the Miracle on Erie Street Weekend!\n\nStop by Willoughby City Hall Parking Lot from 10-2 on Dec 7th for holiday gifts and crafts from some of your favorite Heart of Willoughby Outdoor Market vendors!
URL:https://willoughbyohio.com/event/winter-market-2/
LOCATION:City Hall Parking Lot\, 1 Public Square\, Willoughby\, OH\, 44094\, United States
CATEGORIES:Community
ATTACH;FMTTYPE=image/png:https://willoughbyohio.com/wp-content/uploads/2022/11/winter-market-1-1.png
END:VEVENT
BEGIN:VEVENT
DTSTART;TZID=America/Chicago:20241207T100000
DTEND;TZID=America/Chicago:20241207T170000
DTSTAMP:20260422T231953
CREATED:20241107T182940Z
LAST-MODIFIED:20241107T182940Z
UID:33067-1733565600-1733590800@willoughbyohio.com
SUMMARY:DTW Holiday Stroll
DESCRIPTION:Start your holiday shopping during the DTW Holiday Stroll in historic in Downtown Willoughby. Be sure to stop in each merchant for their holiday specials! \nTwo-day event: Friday\, Dec 6th from 4pm – 8 pm and Saturday\, Dec 7th from 10am – 5 pm
URL:https://willoughbyohio.com/event/dtw-holiday-stroll-3/
LOCATION:Downtown Willoughby
CATEGORIES:Community
ATTACH;FMTTYPE=image/jpeg:https://willoughbyohio.com/wp-content/uploads/2023/11/img_0566-scaled.jpg
END:VEVENT
END:VCALENDAR