BEGIN:VCALENDAR
VERSION:2.0
PRODID:-//City of Willoughby, Ohio - ECPv6.15.20//NONSGML v1.0//EN
CALSCALE:GREGORIAN
METHOD:PUBLISH
X-ORIGINAL-URL:https://willoughbyohio.com
X-WR-CALDESC:Events for City of Willoughby, Ohio
REFRESH-INTERVAL;VALUE=DURATION:PT1H
X-Robots-Tag:noindex
X-PUBLISHED-TTL:PT1H
BEGIN:VTIMEZONE
TZID:America/New_York
BEGIN:DAYLIGHT
TZOFFSETFROM:-0500
TZOFFSETTO:-0400
TZNAME:EDT
DTSTART:20240310T070000
END:DAYLIGHT
BEGIN:STANDARD
TZOFFSETFROM:-0400
TZOFFSETTO:-0500
TZNAME:EST
DTSTART:20241103T060000
END:STANDARD
BEGIN:DAYLIGHT
TZOFFSETFROM:-0500
TZOFFSETTO:-0400
TZNAME:EDT
DTSTART:20250309T070000
END:DAYLIGHT
BEGIN:STANDARD
TZOFFSETFROM:-0400
TZOFFSETTO:-0500
TZNAME:EST
DTSTART:20251102T060000
END:STANDARD
BEGIN:DAYLIGHT
TZOFFSETFROM:-0500
TZOFFSETTO:-0400
TZNAME:EDT
DTSTART:20260308T070000
END:DAYLIGHT
BEGIN:STANDARD
TZOFFSETFROM:-0400
TZOFFSETTO:-0500
TZNAME:EST
DTSTART:20261101T060000
END:STANDARD
END:VTIMEZONE
BEGIN:VEVENT
DTSTART;TZID=America/New_York:20250807T183000
DTEND;TZID=America/New_York:20250807T203000
DTSTAMP:20260420T172230
CREATED:20250403T144321Z
LAST-MODIFIED:20250508T134108Z
UID:34099-1754591400-1754598600@willoughbyohio.com
SUMMARY:Summer Concert - Abbey Rodeo
DESCRIPTION:Abbey Rodeo is about playing music they love\, whether timeless covers or original tunes. Their philosophy is simple: enjoy the music first so they can present it authentically to their audience. With a wide variety of material\, harmonies\, and diverse instrumentation\, Abbey Rodeo delivers an unforgettable live performance powered by professional sound. Most importantly\, they have fun and are always grateful for the support of their fans 🎤 ☮️ \n Check out the band on Facebook: Abbey Rodeo
URL:https://willoughbyohio.com/event/summer-concert-abbey-rodeo-4/
LOCATION:Wes Point Park\, Wes Point Park\, Willoughby\, 44094\, United States
CATEGORIES:Community
ATTACH;FMTTYPE=image/jpeg:https://willoughbyohio.com/wp-content/uploads/2025/04/65656830_10215519250120502_1621295401996910592_n.jpg
END:VEVENT
END:VCALENDAR