BEGIN:VCALENDAR
VERSION:2.0
PRODID:-//City of Willoughby, Ohio - ECPv6.15.20//NONSGML v1.0//EN
CALSCALE:GREGORIAN
METHOD:PUBLISH
X-ORIGINAL-URL:https://willoughbyohio.com
X-WR-CALDESC:Events for City of Willoughby, Ohio
REFRESH-INTERVAL;VALUE=DURATION:PT1H
X-Robots-Tag:noindex
X-PUBLISHED-TTL:PT1H
BEGIN:VTIMEZONE
TZID:America/New_York
BEGIN:DAYLIGHT
TZOFFSETFROM:-0500
TZOFFSETTO:-0400
TZNAME:EDT
DTSTART:20250309T070000
END:DAYLIGHT
BEGIN:STANDARD
TZOFFSETFROM:-0400
TZOFFSETTO:-0500
TZNAME:EST
DTSTART:20251102T060000
END:STANDARD
BEGIN:DAYLIGHT
TZOFFSETFROM:-0500
TZOFFSETTO:-0400
TZNAME:EDT
DTSTART:20260308T070000
END:DAYLIGHT
BEGIN:STANDARD
TZOFFSETFROM:-0400
TZOFFSETTO:-0500
TZNAME:EST
DTSTART:20261101T060000
END:STANDARD
BEGIN:DAYLIGHT
TZOFFSETFROM:-0500
TZOFFSETTO:-0400
TZNAME:EDT
DTSTART:20270314T070000
END:DAYLIGHT
BEGIN:STANDARD
TZOFFSETFROM:-0400
TZOFFSETTO:-0500
TZNAME:EST
DTSTART:20271107T060000
END:STANDARD
END:VTIMEZONE
BEGIN:VEVENT
DTSTART;TZID=America/New_York:20260804T170000
DTEND;TZID=America/New_York:20260804T200000
DTSTAMP:20260424T161520
CREATED:20260329T152729Z
LAST-MODIFIED:20260417T004204Z
UID:36551-1785862800-1785873600@willoughbyohio.com
SUMMARY:National Night Out
DESCRIPTION:Join the Willoughby Police Department for a night of community\, connection\, and fun! \n🚓 Meet & chat with Willoughby Police Department members \n🎶 Music\, 🎯 games\, 🍔 food trucks\, and more!
URL:https://willoughbyohio.com/event/national-night-out/
LOCATION:Daniels Park
CATEGORIES:Community
ATTACH;FMTTYPE=image/jpeg:https://willoughbyohio.com/wp-content/uploads/2026/03/6p0a9410.jpg
END:VEVENT
END:VCALENDAR