BEGIN:VCALENDAR
VERSION:2.0
PRODID:-//City of Willoughby, Ohio - ECPv6.15.20//NONSGML v1.0//EN
CALSCALE:GREGORIAN
METHOD:PUBLISH
X-WR-CALNAME:City of Willoughby, Ohio
X-ORIGINAL-URL:https://willoughbyohio.com
X-WR-CALDESC:Events for City of Willoughby, Ohio
REFRESH-INTERVAL;VALUE=DURATION:PT1H
X-Robots-Tag:noindex
X-PUBLISHED-TTL:PT1H
BEGIN:VTIMEZONE
TZID:America/New_York
BEGIN:DAYLIGHT
TZOFFSETFROM:-0500
TZOFFSETTO:-0400
TZNAME:EDT
DTSTART:20250309T070000
END:DAYLIGHT
BEGIN:STANDARD
TZOFFSETFROM:-0400
TZOFFSETTO:-0500
TZNAME:EST
DTSTART:20251102T060000
END:STANDARD
BEGIN:DAYLIGHT
TZOFFSETFROM:-0500
TZOFFSETTO:-0400
TZNAME:EDT
DTSTART:20260308T070000
END:DAYLIGHT
BEGIN:STANDARD
TZOFFSETFROM:-0400
TZOFFSETTO:-0500
TZNAME:EST
DTSTART:20261101T060000
END:STANDARD
BEGIN:DAYLIGHT
TZOFFSETFROM:-0500
TZOFFSETTO:-0400
TZNAME:EDT
DTSTART:20270314T070000
END:DAYLIGHT
BEGIN:STANDARD
TZOFFSETFROM:-0400
TZOFFSETTO:-0500
TZNAME:EST
DTSTART:20271107T060000
END:STANDARD
END:VTIMEZONE
BEGIN:VEVENT
DTSTART;TZID=America/New_York:20261203T100000
DTEND;TZID=America/New_York:20261223T170000
DTSTAMP:20260422T020256
CREATED:20251210T213529Z
LAST-MODIFIED:20260329T155153Z
UID:35766-1796292000-1798045200@willoughbyohio.com
SUMMARY:SHOP THE BLOCK | Golden Ticket Raffle
DESCRIPTION: Shop the Block: Golden Ticket Raffle December 3rd – December 23rd\nGet ready for the most exciting shopping event of the season hosted by the DTW Merchants Association! When you SHOP SMALL\, you could WIN BIG in our Shop the Block Golden Ticket Raffle!\n How It Works:Every time you make a qualifying purchase at participating Downtown Willoughby shops during the event period\, you’ll receive a Golden Ticket for a chance to win one cash prizes!
URL:https://willoughbyohio.com/event/dtw-merchants-golden-ticket-raffle/
LOCATION:Downtown Willoughby
CATEGORIES:Community
ATTACH;FMTTYPE=image/jpeg:https://willoughbyohio.com/wp-content/uploads/2025/12/shop-the-block-fb-header-graphic-ver-3-gold-background--scaled.jpg
END:VEVENT
BEGIN:VEVENT
DTSTART;TZID=America/New_York:20261203T190000
DTEND;TZID=America/New_York:20261203T193000
DTSTAMP:20260422T020256
CREATED:20260329T161014Z
LAST-MODIFIED:20260329T161014Z
UID:36570-1796324400-1796326200@willoughbyohio.com
SUMMARY:Holiday Lighting Ceremony
DESCRIPTION:Get into the holiday spirit and join us in Downtown Willoughby for the annual Holiday Lighting Celebration on Thursday\, December 3rd at 7 pm. Before we turn on the holiday lights\, enjoy the sounds of the season from local entertainment:\n\n\nEvent performances will be posted at a later date.\n\nWe will LIGHT UP DTW following the last performance at APPROXIMATELY 7:35 pm.\n\nAdditional events on Thursday evening include a Live Nativity\, sponsored by Willoughby United Methodist Church from 6 pm – 8 pm.\nThe annual Evening Lions Holiday Auction downstairs of City Hall to benefit the Lions Eye Care Program and community service projects starting at 7:45 pm (after the lights).\n\nSanta and Mrs. Claus will also be on stage after the lighting to greet the children. A line will form in front of the clock\, on the south side of the stage.\n\n\n 
URL:https://willoughbyohio.com/event/holiday-lighting-ceremony/
LOCATION:Downtown Willoughby
CATEGORIES:Community
ATTACH;FMTTYPE=image/jpeg:https://willoughbyohio.com/wp-content/uploads/2021/11/point-park-xmas-lights.jpg
END:VEVENT
END:VCALENDAR