BEGIN:VCALENDAR
VERSION:2.0
PRODID:-//City of Willoughby, Ohio - ECPv6.15.20//NONSGML v1.0//EN
CALSCALE:GREGORIAN
METHOD:PUBLISH
X-ORIGINAL-URL:https://willoughbyohio.com
X-WR-CALDESC:Events for City of Willoughby, Ohio
REFRESH-INTERVAL;VALUE=DURATION:PT1H
X-Robots-Tag:noindex
X-PUBLISHED-TTL:PT1H
BEGIN:VTIMEZONE
TZID:America/Chicago
BEGIN:DAYLIGHT
TZOFFSETFROM:-0600
TZOFFSETTO:-0500
TZNAME:CDT
DTSTART:20230312T080000
END:DAYLIGHT
BEGIN:STANDARD
TZOFFSETFROM:-0500
TZOFFSETTO:-0600
TZNAME:CST
DTSTART:20231105T070000
END:STANDARD
BEGIN:DAYLIGHT
TZOFFSETFROM:-0600
TZOFFSETTO:-0500
TZNAME:CDT
DTSTART:20240310T080000
END:DAYLIGHT
BEGIN:STANDARD
TZOFFSETFROM:-0500
TZOFFSETTO:-0600
TZNAME:CST
DTSTART:20241103T070000
END:STANDARD
BEGIN:DAYLIGHT
TZOFFSETFROM:-0600
TZOFFSETTO:-0500
TZNAME:CDT
DTSTART:20250309T080000
END:DAYLIGHT
BEGIN:STANDARD
TZOFFSETFROM:-0500
TZOFFSETTO:-0600
TZNAME:CST
DTSTART:20251102T070000
END:STANDARD
END:VTIMEZONE
BEGIN:VEVENT
DTSTART;TZID=America/Chicago:20240905T183000
DTEND;TZID=America/Chicago:20240905T203000
DTSTAMP:20260422T010403
CREATED:20240409T182632Z
LAST-MODIFIED:20240808T134604Z
UID:32264-1725561000-1725568200@willoughbyohio.com
SUMMARY:Summer Concert - FM 77
DESCRIPTION:NEW DATE – FM 77 will be playing on Thursday\, Sept 5th. The original concert date was canceled due to weather. \nCome and enjoy everything you loved about the 70s from rock to disco with FM  77’s high energy\, engaging performance! \nLearn more about the band here: https://www.facebook.com/FM77Cleveland
URL:https://willoughbyohio.com/event/summer-concert-fm-77/
LOCATION:Wes Point Park\, Wes Point Park\, Willoughby\, 44094\, United States
CATEGORIES:Community
ATTACH;FMTTYPE=image/jpeg:https://willoughbyohio.com/wp-content/uploads/2024/04/fm-77-option.jpg
END:VEVENT
BEGIN:VEVENT
DTSTART;TZID=America/Chicago:20240907T130000
DTEND;TZID=America/Chicago:20240907T150000
DTSTAMP:20260422T010403
CREATED:20240730T114141Z
LAST-MODIFIED:20240730T114141Z
UID:32689-1725714000-1725721200@willoughbyohio.com
SUMMARY:Doggie Day at Osborne Pool
DESCRIPTION:Bring your dog for an end of summer swim. The pool is open for dogs ONLY!Price is $5 per dog. Pay at the Gate.\n1:00 – 3:00 pm for all dogs.\n\nRain Make-Up Sunday 9/8
URL:https://willoughbyohio.com/event/doggie-day-at-osborne-pool/
LOCATION:Osborne Park Pool\, 38575 Lakeshore Blvd\, Willoughby\, OH\, 44094\, United States
CATEGORIES:Community
ATTACH;FMTTYPE=image/jpeg:https://willoughbyohio.com/wp-content/uploads/2024/07/doggie-swim.jpg
END:VEVENT
BEGIN:VEVENT
DTSTART;TZID=America/Chicago:20240910T170000
DTEND;TZID=America/Chicago:20240910T173000
DTSTAMP:20260422T010403
CREATED:20240903T154446Z
LAST-MODIFIED:20240903T154446Z
UID:32779-1725987600-1725989400@willoughbyohio.com
SUMMARY:Groundbreaking - Union High Renovation Project
DESCRIPTION:Join us for the groundbreaking and project kick-off ceremony for the Willoughby Union High Renovation Project. \nRepresentatives from the administration\, city council\, elected officials\, and project developers will be present to share information about the project.
URL:https://willoughbyohio.com/event/groundbreaking-union-high-renovation-project/
LOCATION:25 Public Square\, 25 Public Square\, Willoughby\, 44094\, United States
CATEGORIES:Community,Public Meetings
ATTACH;FMTTYPE=image/png:https://willoughbyohio.com/wp-content/uploads/2024/09/union-high-groundbreaking-invitation-public.png
END:VEVENT
BEGIN:VEVENT
DTSTART;TZID=America/Chicago:20240918T183000
DTEND;TZID=America/Chicago:20240918T183000
DTSTAMP:20260422T010403
CREATED:20240904T122513Z
LAST-MODIFIED:20240916T192535Z
UID:32791-1726684200-1726684200@willoughbyohio.com
SUMMARY:Community Meeting - Euclid Ave Pool Master Plan
DESCRIPTION:The purpose of this meeting is to share ideas and gather community feedback about the Euclid Ave Pool Master Plan. City administration\, council members and representatives from Brandsetter Carroll Inc. design team will be in attendance. \nMeeting location: Willoughby Senior Center | 36939 Ridge Road
URL:https://willoughbyohio.com/event/community-meeting-euclid-ave-pool-master-plan/
LOCATION:Willoughby Senior Center\, 36939 Ridge Road\, Willoughby\, OH\, 44094\, United States
CATEGORIES:Community,Public Meetings
ATTACH;FMTTYPE=image/jpeg:https://willoughbyohio.com/wp-content/uploads/2024/09/euclid-pool-overhead-slide-shot-scaled.jpg
END:VEVENT
BEGIN:VEVENT
DTSTART;TZID=America/Chicago:20240924T140000
DTEND;TZID=America/Chicago:20240924T150000
DTSTAMP:20260422T010403
CREATED:20240913T163012Z
LAST-MODIFIED:20240913T163618Z
UID:32837-1727186400-1727190000@willoughbyohio.com
SUMMARY:Groundbreaking - Osborne Park Shoreline Protection Project
DESCRIPTION:Join us for a ceremonial groundbreaking for the Osborne Park Shoreline Protection Project! \nRepresentatives from the administration\, city council\, elected officials\, and project developers will be present to share information about the project.
URL:https://willoughbyohio.com/event/groundbreaking-osborne-park-shoreline-restoration-project/
LOCATION:osborne park\, 38575 Lakeshore Blvd\, Willoughby\, OH\, 44094\, United States
CATEGORIES:Community,Public Meetings
ATTACH;FMTTYPE=image/png:https://willoughbyohio.com/wp-content/uploads/2024/09/union-high-groundbreaking-invitation-9.10.24-1.png
END:VEVENT
END:VCALENDAR