BEGIN:VCALENDAR
VERSION:2.0
PRODID:-//City of Willoughby, Ohio - ECPv6.15.20//NONSGML v1.0//EN
CALSCALE:GREGORIAN
METHOD:PUBLISH
X-ORIGINAL-URL:https://willoughbyohio.com
X-WR-CALDESC:Events for City of Willoughby, Ohio
REFRESH-INTERVAL;VALUE=DURATION:PT1H
X-Robots-Tag:noindex
X-PUBLISHED-TTL:PT1H
BEGIN:VTIMEZONE
TZID:America/Chicago
BEGIN:DAYLIGHT
TZOFFSETFROM:-0600
TZOFFSETTO:-0500
TZNAME:CDT
DTSTART:20240310T080000
END:DAYLIGHT
BEGIN:STANDARD
TZOFFSETFROM:-0500
TZOFFSETTO:-0600
TZNAME:CST
DTSTART:20241103T070000
END:STANDARD
BEGIN:DAYLIGHT
TZOFFSETFROM:-0600
TZOFFSETTO:-0500
TZNAME:CDT
DTSTART:20250309T080000
END:DAYLIGHT
BEGIN:STANDARD
TZOFFSETFROM:-0500
TZOFFSETTO:-0600
TZNAME:CST
DTSTART:20251102T070000
END:STANDARD
BEGIN:DAYLIGHT
TZOFFSETFROM:-0600
TZOFFSETTO:-0500
TZNAME:CDT
DTSTART:20260308T080000
END:DAYLIGHT
BEGIN:STANDARD
TZOFFSETFROM:-0500
TZOFFSETTO:-0600
TZNAME:CST
DTSTART:20261101T070000
END:STANDARD
END:VTIMEZONE
BEGIN:VTIMEZONE
TZID:America/New_York
BEGIN:DAYLIGHT
TZOFFSETFROM:-0500
TZOFFSETTO:-0400
TZNAME:EDT
DTSTART:20240310T070000
END:DAYLIGHT
BEGIN:STANDARD
TZOFFSETFROM:-0400
TZOFFSETTO:-0500
TZNAME:EST
DTSTART:20241103T060000
END:STANDARD
BEGIN:DAYLIGHT
TZOFFSETFROM:-0500
TZOFFSETTO:-0400
TZNAME:EDT
DTSTART:20250309T070000
END:DAYLIGHT
BEGIN:STANDARD
TZOFFSETFROM:-0400
TZOFFSETTO:-0500
TZNAME:EST
DTSTART:20251102T060000
END:STANDARD
BEGIN:DAYLIGHT
TZOFFSETFROM:-0500
TZOFFSETTO:-0400
TZNAME:EDT
DTSTART:20260308T070000
END:DAYLIGHT
BEGIN:STANDARD
TZOFFSETFROM:-0400
TZOFFSETTO:-0500
TZNAME:EST
DTSTART:20261101T060000
END:STANDARD
END:VTIMEZONE
BEGIN:VEVENT
DTSTART;TZID=America/Chicago:20251211T190000
DTEND;TZID=America/Chicago:20251211T210000
DTSTAMP:20260423T131442
CREATED:20200616T180003Z
LAST-MODIFIED:20251112T132349Z
UID:33314-1765479600-1765486800@willoughbyohio.com
SUMMARY:Planning Commission Meeting-Canceled
DESCRIPTION:
URL:https://willoughbyohio.com/event/planning-commission-meeting-9-2021-12-09-2022-12-08-2024-10-10-2025-12-11/
LOCATION:City Hall – C Room\, 1 Public Square\, Willoughby\, OH\, 44094\, United States
CATEGORIES:Planning Commission,Public Meetings
END:VEVENT
BEGIN:VEVENT
DTSTART;TZID=America/Chicago:20251210T190000
DTEND;TZID=America/Chicago:20251210T210000
DTSTAMP:20260423T131442
CREATED:20230209T130550Z
LAST-MODIFIED:20260409T134510Z
UID:35069-1765393200-1765400400@willoughbyohio.com
SUMMARY:Board of Zoning Appeals
DESCRIPTION:
URL:https://willoughbyohio.com/event/board-of-zoning-appeals-4-2025-01-22-2025-08-27-2025-10-22-2025-12-10/
LOCATION:City Hall – C Room\, 1 Public Square\, Willoughby\, OH\, 44094\, United States
CATEGORIES:Board of Zoning Appeals,Public Meetings
END:VEVENT
BEGIN:VEVENT
DTSTART;TZID=America/New_York:20251209T190000
DTEND;TZID=America/New_York:20251209T203000
DTSTAMP:20260423T131442
CREATED:20251124T204728Z
LAST-MODIFIED:20251229T170230Z
UID:35678-1765306800-1765312200@willoughbyohio.com
SUMMARY:Planning Commission Joint Work Session
DESCRIPTION:
URL:https://willoughbyohio.com/event/planning-commission-joint-work-session-4/
LOCATION:City Hall – C Room\, 1 Public Square\, Willoughby\, OH\, 44094\, United States
CATEGORIES:Planning Commission,Public Meetings
END:VEVENT
BEGIN:VEVENT
DTSTART;TZID=America/Chicago:20251208T180000
DTEND;TZID=America/Chicago:20251208T200000
DTSTAMP:20260423T131442
CREATED:20200615T201608Z
LAST-MODIFIED:20260109T140218Z
UID:33851-1765216800-1765224000@willoughbyohio.com
SUMMARY:Sign Review Board
DESCRIPTION:
URL:https://willoughbyohio.com/event/sign-review-board-2021-12-13-2022-12-12-2023-05-08-2025-04-14-2025-12-08/
LOCATION:City Hall – C Room\, 1 Public Square\, Willoughby\, OH\, 44094\, United States
CATEGORIES:Public Meetings,Sign Review Board
END:VEVENT
BEGIN:VEVENT
DTSTART;TZID=America/Chicago:20251203T190000
DTEND;TZID=America/Chicago:20251203T210000
DTSTAMP:20260423T131442
CREATED:20200616T163618Z
LAST-MODIFIED:20260109T140032Z
UID:33276-1764788400-1764795600@willoughbyohio.com
SUMMARY:Design Review Board
DESCRIPTION:
URL:https://willoughbyohio.com/event/design-review-board-2020-08-05-2020-09-02-2021-12-01-2022-12-07-2023-03-01-2024-11-06-2025-12-03/
LOCATION:City Hall – C Room\, 1 Public Square\, Willoughby\, OH\, 44094\, United States
CATEGORIES:Design Review Board,Public Meetings
END:VEVENT
BEGIN:VEVENT
DTSTART;TZID=America/Chicago:20251202T190000
DTEND;TZID=America/Chicago:20251202T200000
DTSTAMP:20260423T131442
CREATED:20220930T135310Z
LAST-MODIFIED:20260121T211114Z
UID:33223-1764702000-1764705600@willoughbyohio.com
SUMMARY:City Council Meeting
DESCRIPTION:
URL:https://willoughbyohio.com/event/city-council-meeting-5-2023-02-07-2025-01-07-2025-05-06-2025-12-02/
LOCATION:City Hall – B and C Rooms\, 1 Public Square\, Willoughby\, OH\, 44094\, United States
CATEGORIES:City Council,Public Meetings
END:VEVENT
BEGIN:VEVENT
DTSTART;TZID=America/Chicago:20251201T190000
DTEND;TZID=America/Chicago:20251201T210000
DTSTAMP:20260423T131442
CREATED:20200629T143241Z
LAST-MODIFIED:20251124T130747Z
UID:31748-1764615600-1764622800@willoughbyohio.com
SUMMARY:Building Code of Appeals-Canceled
DESCRIPTION:
URL:https://willoughbyohio.com/event/building-code-of-appeals-2020-08-03-2021-12-06-2022-12-05-2023-07-03-2025-12-01/
LOCATION:City Hall – C Room\, 1 Public Square\, Willoughby\, OH\, 44094\, United States
CATEGORIES:Building Code of Appeals,Public Meetings
END:VEVENT
BEGIN:VEVENT
DTSTART;TZID=America/Chicago:20251127T190000
DTEND;TZID=America/Chicago:20251127T210000
DTSTAMP:20260423T131442
CREATED:20221114T184220Z
LAST-MODIFIED:20251024T144454Z
UID:33253-1764270000-1764277200@willoughbyohio.com
SUMMARY:Planning Commission Meeting-Canceled due to holiday
DESCRIPTION:
URL:https://willoughbyohio.com/event/planning-commission-meeting-11-2024-12-26-2025-11-27/
LOCATION:City Hall – C Room\, 1 Public Square\, Willoughby\, OH\, 44094\, United States
CATEGORIES:Planning Commission,Public Meetings
END:VEVENT
BEGIN:VEVENT
DTSTART;TZID=America/Chicago:20251124T180000
DTEND;TZID=America/Chicago:20251124T190000
DTSTAMP:20260423T131442
CREATED:20200720T124107Z
LAST-MODIFIED:20251209T134600Z
UID:32815-1764007200-1764010800@willoughbyohio.com
SUMMARY:Sign Review Board
DESCRIPTION:
URL:https://willoughbyohio.com/event/sign-review-board-2-2020-08-24-2021-11-22-2022-11-28-2025-11-24/
LOCATION:City Hall – C Room\, 1 Public Square\, Willoughby\, OH\, 44094\, United States
CATEGORIES:Public Meetings,Sign Review Board
END:VEVENT
BEGIN:VEVENT
DTSTART;TZID=America/Chicago:20251118T190000
DTEND;TZID=America/Chicago:20251118T200000
DTSTAMP:20260423T131442
CREATED:20220930T135434Z
LAST-MODIFIED:20260204T144025Z
UID:34232-1763492400-1763496000@willoughbyohio.com
SUMMARY:City Council Meeting
DESCRIPTION:
URL:https://willoughbyohio.com/event/city-council-meeting-6-2024-06-18__trashed-2025-11-18/
LOCATION:City Hall – B and C Rooms\, 1 Public Square\, Willoughby\, OH\, 44094\, United States
CATEGORIES:City Council,Public Meetings
END:VEVENT
BEGIN:VEVENT
DTSTART;TZID=America/Chicago:20251113T190000
DTEND;TZID=America/Chicago:20251113T210000
DTSTAMP:20260423T131442
CREATED:20200616T180003Z
LAST-MODIFIED:20251024T140228Z
UID:33313-1763060400-1763067600@willoughbyohio.com
SUMMARY:Planning Commission Meeting-Canceled
DESCRIPTION:
URL:https://willoughbyohio.com/event/planning-commission-meeting-9-2021-12-09-2022-12-08-2024-10-10-2025-11-13/
LOCATION:City Hall – C Room\, 1 Public Square\, Willoughby\, OH\, 44094\, United States
CATEGORIES:Planning Commission,Public Meetings
END:VEVENT
BEGIN:VEVENT
DTSTART;TZID=America/Chicago:20251112T190000
DTEND;TZID=America/Chicago:20251112T210000
DTSTAMP:20260423T131442
CREATED:20230209T130550Z
LAST-MODIFIED:20260409T134603Z
UID:35068-1762974000-1762981200@willoughbyohio.com
SUMMARY:Board of Zoning Appeals
DESCRIPTION:
URL:https://willoughbyohio.com/event/board-of-zoning-appeals-4-2025-01-22-2025-08-27-2025-10-22-2025-11-12/
LOCATION:City Hall – C Room\, 1 Public Square\, Willoughby\, OH\, 44094\, United States
CATEGORIES:Board of Zoning Appeals,Public Meetings
END:VEVENT
BEGIN:VEVENT
DTSTART;TZID=America/Chicago:20251110T180000
DTEND;TZID=America/Chicago:20251110T200000
DTSTAMP:20260423T131442
CREATED:20200615T201608Z
LAST-MODIFIED:20251103T125808Z
UID:33850-1762797600-1762804800@willoughbyohio.com
SUMMARY:Sign Review Board-Canceled
DESCRIPTION:
URL:https://willoughbyohio.com/event/sign-review-board-2021-12-13-2022-12-12-2023-05-08-2025-04-14-2025-11-10/
LOCATION:City Hall – C Room\, 1 Public Square\, Willoughby\, OH\, 44094\, United States
CATEGORIES:Public Meetings,Sign Review Board
END:VEVENT
BEGIN:VEVENT
DTSTART;TZID=America/Chicago:20251105T190000
DTEND;TZID=America/Chicago:20251105T210000
DTSTAMP:20260423T131442
CREATED:20200616T163618Z
LAST-MODIFIED:20260109T135948Z
UID:33275-1762369200-1762376400@willoughbyohio.com
SUMMARY:Design Review Board
DESCRIPTION:
URL:https://willoughbyohio.com/event/design-review-board-2020-08-05-2020-09-02-2021-12-01-2022-12-07-2023-03-01-2024-11-06-2025-11-05/
LOCATION:City Hall – C Room\, 1 Public Square\, Willoughby\, OH\, 44094\, United States
CATEGORIES:Design Review Board,Public Meetings
END:VEVENT
BEGIN:VEVENT
DTSTART;TZID=America/Chicago:20251104T190000
DTEND;TZID=America/Chicago:20251104T200000
DTSTAMP:20260423T131442
CREATED:20220930T135310Z
LAST-MODIFIED:20250911T135240Z
UID:33222-1762282800-1762286400@willoughbyohio.com
SUMMARY:City Council Meeting - Cancelled
DESCRIPTION:
URL:https://willoughbyohio.com/event/city-council-meeting-5-2023-02-07-2025-01-07-2025-05-06-2025-11-04/
LOCATION:City Hall – B and C Rooms\, 1 Public Square\, Willoughby\, OH\, 44094\, United States
CATEGORIES:City Council,Public Meetings
END:VEVENT
BEGIN:VEVENT
DTSTART;TZID=America/Chicago:20251103T190000
DTEND;TZID=America/Chicago:20251103T210000
DTSTAMP:20260423T131442
CREATED:20200629T143241Z
LAST-MODIFIED:20251027T120928Z
UID:31645-1762196400-1762203600@willoughbyohio.com
SUMMARY:Building Code of Appeals-Canceled
DESCRIPTION:
URL:https://willoughbyohio.com/event/building-code-of-appeals-2020-08-03-2021-12-06-2022-12-05-2023-07-03-2025-11-03/
LOCATION:City Hall – C Room\, 1 Public Square\, Willoughby\, OH\, 44094\, United States
CATEGORIES:Building Code of Appeals,Public Meetings
END:VEVENT
BEGIN:VEVENT
DTSTART;TZID=America/Chicago:20251028T180000
DTEND;TZID=America/Chicago:20251028T190000
DTSTAMP:20260423T131442
CREATED:20251021T182556Z
LAST-MODIFIED:20251125T130257Z
UID:35193-1761674400-1761678000@willoughbyohio.com
SUMMARY:Sign Review Board
DESCRIPTION:
URL:https://willoughbyohio.com/event/sign-review-board-5/
LOCATION:City Hall – C Room\, 1 Public Square\, Willoughby\, OH\, 44094\, United States
CATEGORIES:Public Meetings,Sign Review Board
END:VEVENT
BEGIN:VEVENT
DTSTART;TZID=America/Chicago:20251027T180000
DTEND;TZID=America/Chicago:20251027T190000
DTSTAMP:20260423T131442
CREATED:20200720T124107Z
LAST-MODIFIED:20260109T140554Z
UID:32814-1761588000-1761591600@willoughbyohio.com
SUMMARY:Sign Review Board-moved to 10-28-25 due to lack of quorum
DESCRIPTION:
URL:https://willoughbyohio.com/event/sign-review-board-2-2020-08-24-2021-11-22-2022-11-28-2025-10-27/
LOCATION:City Hall – C Room\, 1 Public Square\, Willoughby\, OH\, 44094\, United States
CATEGORIES:Public Meetings,Sign Review Board
END:VEVENT
BEGIN:VEVENT
DTSTART;TZID=America/Chicago:20251023T190000
DTEND;TZID=America/Chicago:20251023T210000
DTSTAMP:20260423T131442
CREATED:20221114T184220Z
LAST-MODIFIED:20260109T135245Z
UID:33252-1761246000-1761253200@willoughbyohio.com
SUMMARY:Planning Commission Meeting
DESCRIPTION:
URL:https://willoughbyohio.com/event/planning-commission-meeting-11-2024-12-26-2025-10-23/
LOCATION:City Hall – C Room\, 1 Public Square\, Willoughby\, OH\, 44094\, United States
CATEGORIES:Planning Commission,Public Meetings
END:VEVENT
BEGIN:VEVENT
DTSTART;TZID=America/Chicago:20251021T190000
DTEND;TZID=America/Chicago:20251021T200000
DTSTAMP:20260423T131442
CREATED:20220930T135434Z
LAST-MODIFIED:20251203T150515Z
UID:34231-1761073200-1761076800@willoughbyohio.com
SUMMARY:City Council Meeting
DESCRIPTION:
URL:https://willoughbyohio.com/event/city-council-meeting-6-2024-06-18__trashed-2025-10-21/
LOCATION:City Hall – B and C Rooms\, 1 Public Square\, Willoughby\, OH\, 44094\, United States
CATEGORIES:City Council,Public Meetings
END:VEVENT
BEGIN:VEVENT
DTSTART;TZID=America/Chicago:20251013T180000
DTEND;TZID=America/Chicago:20251013T200000
DTSTAMP:20260423T131442
CREATED:20200615T201608Z
LAST-MODIFIED:20250307T135109Z
UID:33849-1760378400-1760385600@willoughbyohio.com
SUMMARY:Sign Review Board-Canceled due to holiday
DESCRIPTION:
URL:https://willoughbyohio.com/event/sign-review-board-2021-12-13-2022-12-12-2023-05-08-2025-04-14-2025-10-13/
LOCATION:City Hall – C Room\, 1 Public Square\, Willoughby\, OH\, 44094\, United States
CATEGORIES:Public Meetings,Sign Review Board
END:VEVENT
BEGIN:VEVENT
DTSTART;TZID=America/Chicago:20251009T190000
DTEND;TZID=America/Chicago:20251009T210000
DTSTAMP:20260423T131442
CREATED:20200616T180003Z
LAST-MODIFIED:20260109T135343Z
UID:33312-1760036400-1760043600@willoughbyohio.com
SUMMARY:Planning Commission Meeting
DESCRIPTION:
URL:https://willoughbyohio.com/event/planning-commission-meeting-9-2021-12-09-2022-12-08-2024-10-10-2025-10-09/
LOCATION:City Hall – C Room\, 1 Public Square\, Willoughby\, OH\, 44094\, United States
CATEGORIES:Planning Commission,Public Meetings
END:VEVENT
BEGIN:VEVENT
DTSTART;TZID=America/Chicago:20251008T190000
DTEND;TZID=America/Chicago:20251008T210000
DTSTAMP:20260423T131442
CREATED:20230209T130550Z
LAST-MODIFIED:20251113T131004Z
UID:33237-1759950000-1759957200@willoughbyohio.com
SUMMARY:Board of Zoning Appeals
DESCRIPTION:
URL:https://willoughbyohio.com/event/board-of-zoning-appeals-4-2025-01-22-2025-08-27-2025-10-22/
LOCATION:City Hall – C Room\, 1 Public Square\, Willoughby\, OH\, 44094\, United States
CATEGORIES:Board of Zoning Appeals,Public Meetings
END:VEVENT
BEGIN:VEVENT
DTSTART;TZID=America/Chicago:20251007T190000
DTEND;TZID=America/Chicago:20251007T200000
DTSTAMP:20260423T131442
CREATED:20220930T135310Z
LAST-MODIFIED:20251022T183102Z
UID:33221-1759863600-1759867200@willoughbyohio.com
SUMMARY:City Council Meeting
DESCRIPTION:
URL:https://willoughbyohio.com/event/city-council-meeting-5-2023-02-07-2025-01-07-2025-05-06-2025-10-07/
LOCATION:City Hall – B and C Rooms\, 1 Public Square\, Willoughby\, OH\, 44094\, United States
CATEGORIES:City Council,Public Meetings
END:VEVENT
BEGIN:VEVENT
DTSTART;TZID=America/Chicago:20251006T190000
DTEND;TZID=America/Chicago:20251006T210000
DTSTAMP:20260423T131442
CREATED:20200629T143241Z
LAST-MODIFIED:20250929T173151Z
UID:31566-1759777200-1759784400@willoughbyohio.com
SUMMARY:Building Code of Appeals-Canceled
DESCRIPTION:
URL:https://willoughbyohio.com/event/building-code-of-appeals-2020-08-03-2021-12-06-2022-12-05-2023-07-03-2025-10-06/
LOCATION:City Hall – C Room\, 1 Public Square\, Willoughby\, OH\, 44094\, United States
CATEGORIES:Building Code of Appeals,Public Meetings
END:VEVENT
BEGIN:VEVENT
DTSTART;TZID=America/Chicago:20251001T190000
DTEND;TZID=America/Chicago:20251001T210000
DTSTAMP:20260423T131442
CREATED:20200616T163618Z
LAST-MODIFIED:20251106T131712Z
UID:33274-1759345200-1759352400@willoughbyohio.com
SUMMARY:Design Review Board
DESCRIPTION:
URL:https://willoughbyohio.com/event/design-review-board-2020-08-05-2020-09-02-2021-12-01-2022-12-07-2023-03-01-2024-11-06-2025-10-01/
LOCATION:City Hall – C Room\, 1 Public Square\, Willoughby\, OH\, 44094\, United States
CATEGORIES:Design Review Board,Public Meetings
END:VEVENT
BEGIN:VEVENT
DTSTART;TZID=America/Chicago:20250925T190000
DTEND;TZID=America/Chicago:20250925T210000
DTSTAMP:20260423T131442
CREATED:20221114T184220Z
LAST-MODIFIED:20251021T122305Z
UID:33251-1758826800-1758834000@willoughbyohio.com
SUMMARY:Planning Commission Meeting
DESCRIPTION:
URL:https://willoughbyohio.com/event/planning-commission-meeting-11-2024-12-26-2025-09-25/
LOCATION:City Hall – C Room\, 1 Public Square\, Willoughby\, OH\, 44094\, United States
CATEGORIES:Planning Commission,Public Meetings
END:VEVENT
BEGIN:VEVENT
DTSTART;TZID=America/Chicago:20250924T190000
DTEND;TZID=America/Chicago:20250924T210000
DTSTAMP:20260423T131442
CREATED:20230209T130550Z
LAST-MODIFIED:20251014T171318Z
UID:33236-1758740400-1758747600@willoughbyohio.com
SUMMARY:Board of Zoning Appeals
DESCRIPTION:
URL:https://willoughbyohio.com/event/board-of-zoning-appeals-4-2025-01-22-2025-08-27-2025-09-24/
LOCATION:City Hall – C Room\, 1 Public Square\, Willoughby\, OH\, 44094\, United States
CATEGORIES:Board of Zoning Appeals,Public Meetings
END:VEVENT
BEGIN:VEVENT
DTSTART;TZID=America/Chicago:20250923T190000
DTEND;TZID=America/Chicago:20250923T200000
DTSTAMP:20260423T131442
CREATED:20220930T135434Z
LAST-MODIFIED:20251008T133932Z
UID:34230-1758654000-1758657600@willoughbyohio.com
SUMMARY:City Council Meeting
DESCRIPTION:
URL:https://willoughbyohio.com/event/city-council-meeting-6-2024-06-18__trashed-2025-09-16/
LOCATION:City Hall – B and C Rooms\, 1 Public Square\, Willoughby\, OH\, 44094\, United States
CATEGORIES:City Council,Public Meetings
END:VEVENT
BEGIN:VEVENT
DTSTART;TZID=America/Chicago:20250922T180000
DTEND;TZID=America/Chicago:20250922T190000
DTSTAMP:20260423T131442
CREATED:20200720T124107Z
LAST-MODIFIED:20260109T140707Z
UID:32813-1758564000-1758567600@willoughbyohio.com
SUMMARY:Sign Review Board
DESCRIPTION:
URL:https://willoughbyohio.com/event/sign-review-board-2-2020-08-24-2021-11-22-2022-11-28-2025-09-22/
LOCATION:City Hall – C Room\, 1 Public Square\, Willoughby\, OH\, 44094\, United States
CATEGORIES:Public Meetings,Sign Review Board
END:VEVENT
END:VCALENDAR