BEGIN:VCALENDAR
VERSION:2.0
PRODID:-//City of Willoughby, Ohio - ECPv6.15.20//NONSGML v1.0//EN
CALSCALE:GREGORIAN
METHOD:PUBLISH
X-ORIGINAL-URL:https://willoughbyohio.com
X-WR-CALDESC:Events for City of Willoughby, Ohio
REFRESH-INTERVAL;VALUE=DURATION:PT1H
X-Robots-Tag:noindex
X-PUBLISHED-TTL:PT1H
BEGIN:VTIMEZONE
TZID:America/Chicago
BEGIN:DAYLIGHT
TZOFFSETFROM:-0600
TZOFFSETTO:-0500
TZNAME:CDT
DTSTART:20230312T080000
END:DAYLIGHT
BEGIN:STANDARD
TZOFFSETFROM:-0500
TZOFFSETTO:-0600
TZNAME:CST
DTSTART:20231105T070000
END:STANDARD
BEGIN:DAYLIGHT
TZOFFSETFROM:-0600
TZOFFSETTO:-0500
TZNAME:CDT
DTSTART:20240310T080000
END:DAYLIGHT
BEGIN:STANDARD
TZOFFSETFROM:-0500
TZOFFSETTO:-0600
TZNAME:CST
DTSTART:20241103T070000
END:STANDARD
BEGIN:DAYLIGHT
TZOFFSETFROM:-0600
TZOFFSETTO:-0500
TZNAME:CDT
DTSTART:20250309T080000
END:DAYLIGHT
BEGIN:STANDARD
TZOFFSETFROM:-0500
TZOFFSETTO:-0600
TZNAME:CST
DTSTART:20251102T070000
END:STANDARD
END:VTIMEZONE
BEGIN:VEVENT
DTSTART;TZID=America/Chicago:20240113T120000
DTEND;TZID=America/Chicago:20240113T200000
DTSTAMP:20260425T104408
CREATED:20231213T125036Z
LAST-MODIFIED:20240112T151306Z
UID:31776-1705147200-1705176000@willoughbyohio.com
SUMMARY:DTW Ice Fest
DESCRIPTION:Embrace the cold at Ice Fest! \nIce Fest celebrates winter and all the beauty it brings. Grab the family and tour historic Downtown Willoughby restaurants and store fronts adorned with unique ice sculptures. Experience art\, ice carving demonstrations\, vendors\, the city’s lights and other outdoor winter entertainment. This is your chance to experience Downtown Willoughby in a new way! \n\n12:30 pm: See your favorite local Lake County Captains mascot and Cleveland Browns mascot\n\n\n2:00 pm: Ice Carving Demonstration\n\n\n3:30 pm: Fire dancer\n\n\n5:00pm: Ice Carving Demonstration\n\n\n6:30pm: Fire & Ice Tower\n\nEvent hosted by the Downtown Willoughby Bar and Restaurant Association.
URL:https://willoughbyohio.com/event/dtw-ice-fest/
LOCATION:Downtown Willoughby\, Erie Street\, Willoughby\, OH\, 44094\, United States
CATEGORIES:Community
ATTACH;FMTTYPE=image/jpeg:https://willoughbyohio.com/wp-content/uploads/2023/12/img_7700-scaled.jpg
END:VEVENT
BEGIN:VEVENT
DTSTART;TZID=America/Chicago:20240116T190000
DTEND;TZID=America/Chicago:20240116T200000
DTSTAMP:20260425T104408
CREATED:20220930T135434Z
LAST-MODIFIED:20240208T120243Z
UID:30044-1705431600-1705435200@willoughbyohio.com
SUMMARY:City Council Meeting
DESCRIPTION:
URL:https://willoughbyohio.com/event/city-council-meeting-6-2024-01-16/
LOCATION:City Hall – B and C Rooms\, 1 Public Square\, Willoughby\, OH\, 44094\, United States
CATEGORIES:City Council,Public Meetings
END:VEVENT
BEGIN:VEVENT
DTSTART;TZID=America/Chicago:20240122T180000
DTEND;TZID=America/Chicago:20240122T190000
DTSTAMP:20260425T104408
CREATED:20200720T124107Z
LAST-MODIFIED:20240116T130628Z
UID:30269-1705946400-1705950000@willoughbyohio.com
SUMMARY:Sign Review Board-Canceled
DESCRIPTION:
URL:https://willoughbyohio.com/event/sign-review-board-2-2020-08-24-2021-11-22-2022-11-28-2024-01-22/
LOCATION:City Hall – C Room\, 1 Public Square\, Willoughby\, OH\, 44094\, United States
CATEGORIES:Public Meetings,Sign Review Board
END:VEVENT
BEGIN:VEVENT
DTSTART;TZID=America/Chicago:20240124T190000
DTEND;TZID=America/Chicago:20240124T210000
DTSTAMP:20260425T104408
CREATED:20230209T130550Z
LAST-MODIFIED:20240328T142448Z
UID:30618-1706122800-1706130000@willoughbyohio.com
SUMMARY:Board of Zoning Appeals
DESCRIPTION:
URL:https://willoughbyohio.com/event/board-of-zoning-appeals-4-2024-01-24/
LOCATION:City Hall – C Room\, 1 Public Square\, Willoughby\, OH\, 44094\, United States
CATEGORIES:Board of Zoning Appeals,Public Meetings
END:VEVENT
BEGIN:VEVENT
DTSTART;TZID=America/Chicago:20240125T190000
DTEND;TZID=America/Chicago:20240125T210000
DTSTAMP:20260425T104408
CREATED:20221114T184220Z
LAST-MODIFIED:20240209T121720Z
UID:30354-1706209200-1706216400@willoughbyohio.com
SUMMARY:Planning Commission Meeting
DESCRIPTION:
URL:https://willoughbyohio.com/event/planning-commission-meeting-11-2024-01-25/
LOCATION:City Hall – C Room\, 1 Public Square\, Willoughby\, OH\, 44094\, United States
CATEGORIES:Planning Commission,Public Meetings
END:VEVENT
BEGIN:VEVENT
DTSTART;TZID=America/Chicago:20240205T190000
DTEND;TZID=America/Chicago:20240205T210000
DTSTAMP:20260425T104408
CREATED:20200629T143241Z
LAST-MODIFIED:20240130T115816Z
UID:30247-1707159600-1707166800@willoughbyohio.com
SUMMARY:Building Code of Appeals-Canceled
DESCRIPTION:
URL:https://willoughbyohio.com/event/building-code-of-appeals-2020-08-03-2021-12-06-2022-12-05-2024-02-05/
LOCATION:City Hall – C Room\, 1 Public Square\, Willoughby\, OH\, 44094\, United States
CATEGORIES:Building Code of Appeals,Public Meetings
END:VEVENT
BEGIN:VEVENT
DTSTART;TZID=America/Chicago:20240206T190000
DTEND;TZID=America/Chicago:20240206T200000
DTSTAMP:20260425T104408
CREATED:20220930T135310Z
LAST-MODIFIED:20240221T175047Z
UID:30067-1707246000-1707249600@willoughbyohio.com
SUMMARY:City Council Meeting
DESCRIPTION:
URL:https://willoughbyohio.com/event/city-council-meeting-5-2024-02-06/
LOCATION:City Hall – B and C Rooms\, 1 Public Square\, Willoughby\, OH\, 44094\, United States
CATEGORIES:City Council,Public Meetings
END:VEVENT
BEGIN:VEVENT
DTSTART;TZID=America/Chicago:20240207T190000
DTEND;TZID=America/Chicago:20240207T210000
DTSTAMP:20260425T104408
CREATED:20200616T163618Z
LAST-MODIFIED:20240404T170850Z
UID:30313-1707332400-1707339600@willoughbyohio.com
SUMMARY:Design Review Board
DESCRIPTION:
URL:https://willoughbyohio.com/event/design-review-board-2020-08-05-2020-09-02-2021-12-01-2022-12-07-2024-02-07/
LOCATION:City Hall – C Room\, 1 Public Square\, Willoughby\, OH\, 44094\, United States
CATEGORIES:Design Review Board,Public Meetings
END:VEVENT
BEGIN:VEVENT
DTSTART;TZID=America/Chicago:20240208T190000
DTEND;TZID=America/Chicago:20240208T210000
DTSTAMP:20260425T104408
CREATED:20200616T180003Z
LAST-MODIFIED:20240325T185645Z
UID:30333-1707418800-1707426000@willoughbyohio.com
SUMMARY:Planning Commission Meeting
DESCRIPTION:
URL:https://willoughbyohio.com/event/planning-commission-meeting-9-2021-12-09-2022-12-08-2024-02-08/
LOCATION:City Hall – C Room\, 1 Public Square\, Willoughby\, OH\, 44094\, United States
CATEGORIES:Planning Commission,Public Meetings
END:VEVENT
BEGIN:VEVENT
DTSTART;TZID=America/Chicago:20240212T180000
DTEND;TZID=America/Chicago:20240212T200000
DTSTAMP:20260425T104408
CREATED:20200615T201608Z
LAST-MODIFIED:20240206T174228Z
UID:30290-1707760800-1707768000@willoughbyohio.com
SUMMARY:Sign Review Board-Canceled due to lack of quorum
DESCRIPTION:
URL:https://willoughbyohio.com/event/sign-review-board-2021-12-13-2022-12-12-2024-02-12/
LOCATION:City Hall – C Room\, 1 Public Square\, Willoughby\, OH\, 44094\, United States
CATEGORIES:Public Meetings,Sign Review Board
END:VEVENT
BEGIN:VEVENT
DTSTART;TZID=America/Chicago:20240214T190000
DTEND;TZID=America/Chicago:20240214T210000
DTSTAMP:20260425T104408
CREATED:20231004T133141Z
LAST-MODIFIED:20240328T142102Z
UID:31532-1707937200-1707944400@willoughbyohio.com
SUMMARY:Board of Zoning Appeals
DESCRIPTION:
URL:https://willoughbyohio.com/event/board-of-zoning-appeals-5-2024-02-14/
LOCATION:City Hall – C Room\, 1 Public Square\, Willoughby\, OH\, 44094\, United States
CATEGORIES:Board of Zoning Appeals,Public Meetings
END:VEVENT
BEGIN:VEVENT
DTSTART;TZID=America/Chicago:20240220T190000
DTEND;TZID=America/Chicago:20240220T200000
DTSTAMP:20260425T104408
CREATED:20220930T135434Z
LAST-MODIFIED:20240306T125456Z
UID:30045-1708455600-1708459200@willoughbyohio.com
SUMMARY:City Council Meeting
DESCRIPTION:
URL:https://willoughbyohio.com/event/city-council-meeting-6-2024-02-20/
LOCATION:City Hall – B and C Rooms\, 1 Public Square\, Willoughby\, OH\, 44094\, United States
CATEGORIES:City Council,Public Meetings
END:VEVENT
BEGIN:VEVENT
DTSTART;TZID=America/Chicago:20240222T190000
DTEND;TZID=America/Chicago:20240222T210000
DTSTAMP:20260425T104408
CREATED:20221114T184220Z
LAST-MODIFIED:20240325T184700Z
UID:30355-1708628400-1708635600@willoughbyohio.com
SUMMARY:Planning Commission Meeting
DESCRIPTION:
URL:https://willoughbyohio.com/event/planning-commission-meeting-11-2024-02-22/
LOCATION:City Hall – C Room\, 1 Public Square\, Willoughby\, OH\, 44094\, United States
CATEGORIES:Planning Commission,Public Meetings
END:VEVENT
BEGIN:VEVENT
DTSTART;TZID=America/Chicago:20240226T180000
DTEND;TZID=America/Chicago:20240226T190000
DTSTAMP:20260425T104408
CREATED:20200720T124107Z
LAST-MODIFIED:20240822T190950Z
UID:30270-1708970400-1708974000@willoughbyohio.com
SUMMARY:Sign Review Board
DESCRIPTION:
URL:https://willoughbyohio.com/event/sign-review-board-2-2020-08-24-2021-11-22-2022-11-28-2024-02-26/
LOCATION:City Hall – C Room\, 1 Public Square\, Willoughby\, OH\, 44094\, United States
CATEGORIES:Public Meetings,Sign Review Board
END:VEVENT
BEGIN:VEVENT
DTSTART;TZID=America/Chicago:20240228T190000
DTEND;TZID=America/Chicago:20240228T210000
DTSTAMP:20260425T104408
CREATED:20230209T130550Z
LAST-MODIFIED:20240328T142016Z
UID:30619-1709146800-1709154000@willoughbyohio.com
SUMMARY:Board of Zoning Appeals
DESCRIPTION:
URL:https://willoughbyohio.com/event/board-of-zoning-appeals-4-2024-02-28/
LOCATION:City Hall – C Room\, 1 Public Square\, Willoughby\, OH\, 44094\, United States
CATEGORIES:Board of Zoning Appeals,Public Meetings
END:VEVENT
BEGIN:VEVENT
DTSTART;TZID=America/Chicago:20240304T190000
DTEND;TZID=America/Chicago:20240304T210000
DTSTAMP:20260425T104408
CREATED:20200629T143241Z
LAST-MODIFIED:20240216T144651Z
UID:30248-1709578800-1709586000@willoughbyohio.com
SUMMARY:Building Code of Appeals-Canceled
DESCRIPTION:
URL:https://willoughbyohio.com/event/building-code-of-appeals-2020-08-03-2021-12-06-2022-12-05-2024-03-04/
LOCATION:City Hall – C Room\, 1 Public Square\, Willoughby\, OH\, 44094\, United States
CATEGORIES:Building Code of Appeals,Public Meetings
END:VEVENT
BEGIN:VEVENT
DTSTART;TZID=America/Chicago:20240305T190000
DTEND;TZID=America/Chicago:20240305T200000
DTSTAMP:20260425T104408
CREATED:20220930T135310Z
LAST-MODIFIED:20240320T183640Z
UID:30068-1709665200-1709668800@willoughbyohio.com
SUMMARY:City Council Meeting
DESCRIPTION:
URL:https://willoughbyohio.com/event/city-council-meeting-5-2024-03-05/
LOCATION:City Hall – B and C Rooms\, 1 Public Square\, Willoughby\, OH\, 44094\, United States
CATEGORIES:City Council,Public Meetings
END:VEVENT
BEGIN:VEVENT
DTSTART;TZID=America/Chicago:20240306T190000
DTEND;TZID=America/Chicago:20240306T210000
DTSTAMP:20260425T104408
CREATED:20200616T163618Z
LAST-MODIFIED:20240404T170923Z
UID:30314-1709751600-1709758800@willoughbyohio.com
SUMMARY:Design Review Board
DESCRIPTION:
URL:https://willoughbyohio.com/event/design-review-board-2020-08-05-2020-09-02-2021-12-01-2022-12-07-2024-03-06/
LOCATION:City Hall – C Room\, 1 Public Square\, Willoughby\, OH\, 44094\, United States
CATEGORIES:Design Review Board,Public Meetings
END:VEVENT
BEGIN:VEVENT
DTSTART;TZID=America/Chicago:20240307T180000
DTEND;TZID=America/Chicago:20240307T203000
DTSTAMP:20260425T104408
CREATED:20240229T160735Z
LAST-MODIFIED:20240315T114909Z
UID:32027-1709834400-1709843400@willoughbyohio.com
SUMMARY:Planning Commission Joint Work Session
DESCRIPTION:
URL:https://willoughbyohio.com/event/planning-commission-joint-work-session-2/
LOCATION:City Hall – A Room\, 1 Public Square\, Willoughby\, OH\, 44094\, United States
CATEGORIES:Planning Commission,Public Meetings
END:VEVENT
BEGIN:VEVENT
DTSTART;TZID=America/Chicago:20240311T180000
DTEND;TZID=America/Chicago:20240311T200000
DTSTAMP:20260425T104408
CREATED:20200615T201608Z
LAST-MODIFIED:20240822T190831Z
UID:30291-1710180000-1710187200@willoughbyohio.com
SUMMARY:Sign Review Board
DESCRIPTION:
URL:https://willoughbyohio.com/event/sign-review-board-2021-12-13-2022-12-12-2024-03-11/
LOCATION:City Hall – C Room\, 1 Public Square\, Willoughby\, OH\, 44094\, United States
CATEGORIES:Public Meetings,Sign Review Board
END:VEVENT
BEGIN:VEVENT
DTSTART;TZID=America/Chicago:20240313T190000
DTEND;TZID=America/Chicago:20240313T210000
DTSTAMP:20260425T104408
CREATED:20231004T133141Z
LAST-MODIFIED:20240228T164106Z
UID:31533-1710356400-1710363600@willoughbyohio.com
SUMMARY:Board of Zoning Appeals-Canceled due to lack of quorum
DESCRIPTION:
URL:https://willoughbyohio.com/event/board-of-zoning-appeals-5-2024-03-13/
LOCATION:City Hall – C Room\, 1 Public Square\, Willoughby\, OH\, 44094\, United States
CATEGORIES:Board of Zoning Appeals,Public Meetings
END:VEVENT
BEGIN:VEVENT
DTSTART;TZID=America/Chicago:20240314T190000
DTEND;TZID=America/Chicago:20240314T210000
DTSTAMP:20260425T104408
CREATED:20200616T180003Z
LAST-MODIFIED:20240402T150334Z
UID:30334-1710442800-1710450000@willoughbyohio.com
SUMMARY:Planning Commission Meeting
DESCRIPTION:
URL:https://willoughbyohio.com/event/planning-commission-meeting-9-2021-12-09-2022-12-08-2024-03-14/
LOCATION:City Hall – C Room\, 1 Public Square\, Willoughby\, OH\, 44094\, United States
CATEGORIES:Planning Commission,Public Meetings
END:VEVENT
BEGIN:VEVENT
DTSTART;TZID=America/Chicago:20240319T190000
DTEND;TZID=America/Chicago:20240319T200000
DTSTAMP:20260425T104408
CREATED:20220930T135434Z
LAST-MODIFIED:20240403T164234Z
UID:30046-1710874800-1710878400@willoughbyohio.com
SUMMARY:City Council Meeting
DESCRIPTION:
URL:https://willoughbyohio.com/event/city-council-meeting-6-2024-03-19/
LOCATION:City Hall – B and C Rooms\, 1 Public Square\, Willoughby\, OH\, 44094\, United States
CATEGORIES:City Council,Public Meetings
END:VEVENT
BEGIN:VEVENT
DTSTART;TZID=America/Chicago:20240325T180000
DTEND;TZID=America/Chicago:20240325T190000
DTSTAMP:20260425T104408
CREATED:20200720T124107Z
LAST-MODIFIED:20240517T111750Z
UID:30271-1711389600-1711393200@willoughbyohio.com
SUMMARY:Sign Review Board
DESCRIPTION:
URL:https://willoughbyohio.com/event/sign-review-board-2-2020-08-24-2021-11-22-2022-11-28-2024-03-25/
LOCATION:City Hall – C Room\, 1 Public Square\, Willoughby\, OH\, 44094\, United States
CATEGORIES:Public Meetings,Sign Review Board
END:VEVENT
BEGIN:VEVENT
DTSTART;TZID=America/Chicago:20240327T190000
DTEND;TZID=America/Chicago:20240327T210000
DTSTAMP:20260425T104408
CREATED:20230209T130550Z
LAST-MODIFIED:20240506T132845Z
UID:30620-1711566000-1711573200@willoughbyohio.com
SUMMARY:Board of Zoning Appeals
DESCRIPTION:
URL:https://willoughbyohio.com/event/board-of-zoning-appeals-4-2024-03-27/
LOCATION:City Hall – C Room\, 1 Public Square\, Willoughby\, OH\, 44094\, United States
CATEGORIES:Board of Zoning Appeals,Public Meetings
END:VEVENT
BEGIN:VEVENT
DTSTART;TZID=America/Chicago:20240328T190000
DTEND;TZID=America/Chicago:20240328T210000
DTSTAMP:20260425T104408
CREATED:20221114T184220Z
LAST-MODIFIED:20240419T145158Z
UID:30356-1711652400-1711659600@willoughbyohio.com
SUMMARY:Planning Commission Meeting
DESCRIPTION:
URL:https://willoughbyohio.com/event/planning-commission-meeting-11-2024-03-28/
LOCATION:City Hall – C Room\, 1 Public Square\, Willoughby\, OH\, 44094\, United States
CATEGORIES:Planning Commission,Public Meetings
END:VEVENT
BEGIN:VEVENT
DTSTART;TZID=America/Chicago:20240401T190000
DTEND;TZID=America/Chicago:20240401T210000
DTSTAMP:20260425T104408
CREATED:20200629T143241Z
LAST-MODIFIED:20240322T112041Z
UID:30249-1711998000-1712005200@willoughbyohio.com
SUMMARY:Building Code of Appeals-Canceled
DESCRIPTION:
URL:https://willoughbyohio.com/event/building-code-of-appeals-2020-08-03-2021-12-06-2022-12-05-2024-04-01/
LOCATION:City Hall – C Room\, 1 Public Square\, Willoughby\, OH\, 44094\, United States
CATEGORIES:Building Code of Appeals,Public Meetings
END:VEVENT
BEGIN:VEVENT
DTSTART;TZID=America/Chicago:20240402T190000
DTEND;TZID=America/Chicago:20240402T200000
DTSTAMP:20260425T104408
CREATED:20220930T135310Z
LAST-MODIFIED:20240417T121322Z
UID:30069-1712084400-1712088000@willoughbyohio.com
SUMMARY:City Council Meeting
DESCRIPTION:
URL:https://willoughbyohio.com/event/city-council-meeting-5-2024-04-02/
LOCATION:City Hall – B and C Rooms\, 1 Public Square\, Willoughby\, OH\, 44094\, United States
CATEGORIES:City Council,Public Meetings
END:VEVENT
BEGIN:VEVENT
DTSTART;TZID=America/Chicago:20240403T190000
DTEND;TZID=America/Chicago:20240403T210000
DTSTAMP:20260425T104408
CREATED:20200616T163618Z
LAST-MODIFIED:20240502T120617Z
UID:30315-1712170800-1712178000@willoughbyohio.com
SUMMARY:Design Review Board
DESCRIPTION:
URL:https://willoughbyohio.com/event/design-review-board-2020-08-05-2020-09-02-2021-12-01-2022-12-07-2024-04-03/
LOCATION:City Hall – C Room\, 1 Public Square\, Willoughby\, OH\, 44094\, United States
CATEGORIES:Design Review Board,Public Meetings
END:VEVENT
BEGIN:VEVENT
DTSTART;TZID=America/Chicago:20240408T130000
DTEND;TZID=America/Chicago:20240408T170000
DTSTAMP:20260425T104408
CREATED:20240215T190447Z
LAST-MODIFIED:20240215T190447Z
UID:31985-1712581200-1712595600@willoughbyohio.com
SUMMARY:Total Eclipse Watch Party
DESCRIPTION:A total solar eclipse is set to occur on April 8\, 2024\, and  Willoughby lies within the path of totality—promising nearly four minutes of darkness in the middle of the afternoon as the Moon moves between the Earth and the Sun. The Cleveland area won’t be in the path of totality again until the year 2444.\nJoin us Monday\, April 8th at Osborne Park for our Willoughby 2024 Total Solar Eclipse Watch Party. Osborne Park offers a GREAT venue along the lake to observe this years Total Solar Eclipse.\nWe will be set up at the North Pavilion with a DJ and other activities to enhance your viewing experience.\nThis is a FREE public event.
URL:https://willoughbyohio.com/event/total-eclipse-watch-party/
LOCATION:osborne park\, 38575 Lakeshore Blvd\, Willoughby\, OH\, 44094\, United States
CATEGORIES:Community
ATTACH;FMTTYPE=image/jpeg:https://willoughbyohio.com/wp-content/uploads/2024/02/total-eclipse.jpg
END:VEVENT
END:VCALENDAR