BEGIN:VCALENDAR
VERSION:2.0
PRODID:-//City of Willoughby, Ohio - ECPv6.15.20//NONSGML v1.0//EN
CALSCALE:GREGORIAN
METHOD:PUBLISH
X-WR-CALNAME:City of Willoughby, Ohio
X-ORIGINAL-URL:https://willoughbyohio.com
X-WR-CALDESC:Events for City of Willoughby, Ohio
REFRESH-INTERVAL;VALUE=DURATION:PT1H
X-Robots-Tag:noindex
X-PUBLISHED-TTL:PT1H
BEGIN:VTIMEZONE
TZID:America/Chicago
BEGIN:DAYLIGHT
TZOFFSETFROM:-0600
TZOFFSETTO:-0500
TZNAME:CDT
DTSTART:20240310T080000
END:DAYLIGHT
BEGIN:STANDARD
TZOFFSETFROM:-0500
TZOFFSETTO:-0600
TZNAME:CST
DTSTART:20241103T070000
END:STANDARD
BEGIN:DAYLIGHT
TZOFFSETFROM:-0600
TZOFFSETTO:-0500
TZNAME:CDT
DTSTART:20250309T080000
END:DAYLIGHT
BEGIN:STANDARD
TZOFFSETFROM:-0500
TZOFFSETTO:-0600
TZNAME:CST
DTSTART:20251102T070000
END:STANDARD
BEGIN:DAYLIGHT
TZOFFSETFROM:-0600
TZOFFSETTO:-0500
TZNAME:CDT
DTSTART:20260308T080000
END:DAYLIGHT
BEGIN:STANDARD
TZOFFSETFROM:-0500
TZOFFSETTO:-0600
TZNAME:CST
DTSTART:20261101T070000
END:STANDARD
END:VTIMEZONE
BEGIN:VTIMEZONE
TZID:America/New_York
BEGIN:DAYLIGHT
TZOFFSETFROM:-0500
TZOFFSETTO:-0400
TZNAME:EDT
DTSTART:20240310T070000
END:DAYLIGHT
BEGIN:STANDARD
TZOFFSETFROM:-0400
TZOFFSETTO:-0500
TZNAME:EST
DTSTART:20241103T060000
END:STANDARD
BEGIN:DAYLIGHT
TZOFFSETFROM:-0500
TZOFFSETTO:-0400
TZNAME:EDT
DTSTART:20250309T070000
END:DAYLIGHT
BEGIN:STANDARD
TZOFFSETFROM:-0400
TZOFFSETTO:-0500
TZNAME:EST
DTSTART:20251102T060000
END:STANDARD
BEGIN:DAYLIGHT
TZOFFSETFROM:-0500
TZOFFSETTO:-0400
TZNAME:EDT
DTSTART:20260308T070000
END:DAYLIGHT
BEGIN:STANDARD
TZOFFSETFROM:-0400
TZOFFSETTO:-0500
TZNAME:EST
DTSTART:20261101T060000
END:STANDARD
END:VTIMEZONE
BEGIN:VEVENT
DTSTART;TZID=America/Chicago:20250102T190000
DTEND;TZID=America/Chicago:20250102T210000
DTSTAMP:20260422T030817
CREATED:20200616T163618Z
LAST-MODIFIED:20250630T175540Z
UID:30496-1735844400-1735851600@willoughbyohio.com
SUMMARY:Design Review Board (rescheduled to 1/2/2025 due to holiday on 1/1/25)
DESCRIPTION:
URL:https://willoughbyohio.com/event/design-review-board-2020-08-05-2020-09-02-2021-12-01-2022-12-07-2023-03-01-2024-11-06-2025-01-01/
LOCATION:City Hall – C Room\, 1 Public Square\, Willoughby\, OH\, 44094\, United States
CATEGORIES:Design Review Board,Public Meetings
END:VEVENT
BEGIN:VEVENT
DTSTART;TZID=America/Chicago:20250106T190000
DTEND;TZID=America/Chicago:20250106T210000
DTSTAMP:20260422T030817
CREATED:20200629T143241Z
LAST-MODIFIED:20250107T132854Z
UID:30518-1736190000-1736197200@willoughbyohio.com
SUMMARY:Building Code of Appeals
DESCRIPTION:
URL:https://willoughbyohio.com/event/building-code-of-appeals-2020-08-03-2021-12-06-2022-12-05-2023-07-03-2025-01-06/
LOCATION:City Hall – C Room\, 1 Public Square\, Willoughby\, OH\, 44094\, United States
CATEGORIES:Building Code of Appeals,Public Meetings
END:VEVENT
BEGIN:VEVENT
DTSTART;TZID=America/Chicago:20250107T190000
DTEND;TZID=America/Chicago:20250107T200000
DTSTAMP:20260422T030817
CREATED:20220930T135310Z
LAST-MODIFIED:20250122T210233Z
UID:30519-1736276400-1736280000@willoughbyohio.com
SUMMARY:City Council Meeting
DESCRIPTION:
URL:https://willoughbyohio.com/event/city-council-meeting-5-2023-02-07-2025-01-07/
LOCATION:City Hall – B and C Rooms\, 1 Public Square\, Willoughby\, OH\, 44094\, United States
CATEGORIES:City Council,Public Meetings
END:VEVENT
BEGIN:VEVENT
DTSTART;TZID=America/Chicago:20250108T190000
DTEND;TZID=America/Chicago:20250108T210000
DTSTAMP:20260422T030817
CREATED:20231004T133141Z
LAST-MODIFIED:20250106T141112Z
UID:31543-1736362800-1736370000@willoughbyohio.com
SUMMARY:Board of Zoning Appeals-Canceled
DESCRIPTION:
URL:https://willoughbyohio.com/event/board-of-zoning-appeals-5-2025-01-08/
LOCATION:City Hall – C Room\, 1 Public Square\, Willoughby\, OH\, 44094\, United States
CATEGORIES:Board of Zoning Appeals,Public Meetings
END:VEVENT
BEGIN:VEVENT
DTSTART;TZID=America/Chicago:20250109T190000
DTEND;TZID=America/Chicago:20250109T210000
DTSTAMP:20260422T030817
CREATED:20200616T180003Z
LAST-MODIFIED:20250305T145008Z
UID:30523-1736449200-1736456400@willoughbyohio.com
SUMMARY:Planning Commission Meeting
DESCRIPTION:
URL:https://willoughbyohio.com/event/planning-commission-meeting-9-2021-12-09-2022-12-08-2024-10-10-2025-01-09/
LOCATION:City Hall – C Room\, 1 Public Square\, Willoughby\, OH\, 44094\, United States
CATEGORIES:Planning Commission,Public Meetings
END:VEVENT
BEGIN:VEVENT
DTSTART;TZID=America/New_York:20250111T190000
DTEND;TZID=America/New_York:20250111T200000
DTSTAMP:20260422T030817
CREATED:20250106T150538Z
LAST-MODIFIED:20250106T150538Z
UID:33462-1736622000-1736625600@willoughbyohio.com
SUMMARY:Evening Lions Holiday Auction
DESCRIPTION:Willoughby Evening Lions Winter Auction at 7pm in lower level at city hall. Proceeds go to McKinley Outreach Food Bank\, Willoughby United Methodist Food Bank and to support eye care needs in our community.
URL:https://willoughbyohio.com/event/evening-lions-holiday-auction/
LOCATION:City Hall – A Room\, 1 Public Square\, Willoughby\, OH\, 44094\, United States
CATEGORIES:Community
ATTACH;FMTTYPE=image/png:https://willoughbyohio.com/wp-content/uploads/2025/01/your-paragraph-text-3.png
END:VEVENT
BEGIN:VEVENT
DTSTART;TZID=America/Chicago:20250113T180000
DTEND;TZID=America/Chicago:20250113T200000
DTSTAMP:20260422T030817
CREATED:20200615T201608Z
LAST-MODIFIED:20250106T212120Z
UID:30535-1736791200-1736798400@willoughbyohio.com
SUMMARY:Sign Review Board-Canceled
DESCRIPTION:
URL:https://willoughbyohio.com/event/sign-review-board-2021-12-13-2022-12-12-2023-02-13-2025-01-13/
LOCATION:City Hall – C Room\, 1 Public Square\, Willoughby\, OH\, 44094\, United States
CATEGORIES:Public Meetings,Sign Review Board
END:VEVENT
BEGIN:VEVENT
DTSTART;TZID=America/Chicago:20250121T190000
DTEND;TZID=America/Chicago:20250121T200000
DTSTAMP:20260422T030817
CREATED:20220930T135434Z
LAST-MODIFIED:20250205T145532Z
UID:30546-1737486000-1737489600@willoughbyohio.com
SUMMARY:City Council Meeting
DESCRIPTION:
URL:https://willoughbyohio.com/event/city-council-meeting-6-2023-02-21-2025-01-21/
LOCATION:City Hall – B and C Rooms\, 1 Public Square\, Willoughby\, OH\, 44094\, United States
CATEGORIES:City Council,Public Meetings
END:VEVENT
BEGIN:VEVENT
DTSTART;TZID=America/Chicago:20250122T190000
DTEND;TZID=America/Chicago:20250122T210000
DTSTAMP:20260422T030817
CREATED:20230209T130550Z
LAST-MODIFIED:20250828T151232Z
UID:30630-1737572400-1737579600@willoughbyohio.com
SUMMARY:Board of Zoning Appeals
DESCRIPTION:
URL:https://willoughbyohio.com/event/board-of-zoning-appeals-4-2025-01-22/
LOCATION:City Hall – C Room\, 1 Public Square\, Willoughby\, OH\, 44094\, United States
CATEGORIES:Board of Zoning Appeals,Public Meetings
END:VEVENT
BEGIN:VEVENT
DTSTART;TZID=America/Chicago:20250123T190000
DTEND;TZID=America/Chicago:20250123T210000
DTSTAMP:20260422T030817
CREATED:20221114T184220Z
LAST-MODIFIED:20250305T145111Z
UID:30547-1737658800-1737666000@willoughbyohio.com
SUMMARY:Planning Commission Meeting
DESCRIPTION:
URL:https://willoughbyohio.com/event/planning-commission-meeting-11-2024-12-26-2025-01-23/
LOCATION:City Hall – C Room\, 1 Public Square\, Willoughby\, OH\, 44094\, United States
CATEGORIES:Planning Commission,Public Meetings
END:VEVENT
BEGIN:VEVENT
DTSTART;TZID=America/Chicago:20250127T180000
DTEND;TZID=America/Chicago:20250127T190000
DTSTAMP:20260422T030817
CREATED:20200720T124107Z
LAST-MODIFIED:20250211T140149Z
UID:30561-1738000800-1738004400@willoughbyohio.com
SUMMARY:Sign Review Board
DESCRIPTION:
URL:https://willoughbyohio.com/event/sign-review-board-2-2020-08-24-2021-11-22-2022-11-28-2025-01-27/
LOCATION:City Hall – C Room\, 1 Public Square\, Willoughby\, OH\, 44094\, United States
CATEGORIES:Public Meetings,Sign Review Board
END:VEVENT
END:VCALENDAR