BEGIN:VCALENDAR
VERSION:2.0
PRODID:-//City of Willoughby, Ohio - ECPv6.15.20//NONSGML v1.0//EN
CALSCALE:GREGORIAN
METHOD:PUBLISH
X-WR-CALNAME:City of Willoughby, Ohio
X-ORIGINAL-URL:https://willoughbyohio.com
X-WR-CALDESC:Events for City of Willoughby, Ohio
REFRESH-INTERVAL;VALUE=DURATION:PT1H
X-Robots-Tag:noindex
X-PUBLISHED-TTL:PT1H
BEGIN:VTIMEZONE
TZID:America/Chicago
BEGIN:DAYLIGHT
TZOFFSETFROM:-0600
TZOFFSETTO:-0500
TZNAME:CDT
DTSTART:20230312T080000
END:DAYLIGHT
BEGIN:STANDARD
TZOFFSETFROM:-0500
TZOFFSETTO:-0600
TZNAME:CST
DTSTART:20231105T070000
END:STANDARD
BEGIN:DAYLIGHT
TZOFFSETFROM:-0600
TZOFFSETTO:-0500
TZNAME:CDT
DTSTART:20240310T080000
END:DAYLIGHT
BEGIN:STANDARD
TZOFFSETFROM:-0500
TZOFFSETTO:-0600
TZNAME:CST
DTSTART:20241103T070000
END:STANDARD
BEGIN:DAYLIGHT
TZOFFSETFROM:-0600
TZOFFSETTO:-0500
TZNAME:CDT
DTSTART:20250309T080000
END:DAYLIGHT
BEGIN:STANDARD
TZOFFSETFROM:-0500
TZOFFSETTO:-0600
TZNAME:CST
DTSTART:20251102T070000
END:STANDARD
END:VTIMEZONE
BEGIN:VEVENT
DTSTART;TZID=America/Chicago:20240624T180000
DTEND;TZID=America/Chicago:20240624T190000
DTSTAMP:20260425T092602
CREATED:20200720T124107Z
LAST-MODIFIED:20240617T111204Z
UID:30274-1719252000-1719255600@willoughbyohio.com
SUMMARY:Sign Review Board-Canceled
DESCRIPTION:
URL:https://willoughbyohio.com/event/sign-review-board-2-2020-08-24-2021-11-22-2022-11-28-2024-06-24/
LOCATION:City Hall – C Room\, 1 Public Square\, Willoughby\, OH\, 44094\, United States
CATEGORIES:Public Meetings,Sign Review Board
END:VEVENT
BEGIN:VEVENT
DTSTART;TZID=America/Chicago:20240626T190000
DTEND;TZID=America/Chicago:20240626T210000
DTSTAMP:20260425T092602
CREATED:20230209T130550Z
LAST-MODIFIED:20240709T144640Z
UID:30623-1719428400-1719435600@willoughbyohio.com
SUMMARY:Board of Zoning Appeals-Canceled
DESCRIPTION:
URL:https://willoughbyohio.com/event/board-of-zoning-appeals-4-2024-06-26/
LOCATION:City Hall – C Room\, 1 Public Square\, Willoughby\, OH\, 44094\, United States
CATEGORIES:Board of Zoning Appeals,Public Meetings
END:VEVENT
BEGIN:VEVENT
DTSTART;TZID=America/Chicago:20240627T190000
DTEND;TZID=America/Chicago:20240627T210000
DTSTAMP:20260425T092602
CREATED:20221114T184220Z
LAST-MODIFIED:20240814T145119Z
UID:30359-1719514800-1719522000@willoughbyohio.com
SUMMARY:Planning Commission Meeting
DESCRIPTION:
URL:https://willoughbyohio.com/event/planning-commission-meeting-11-2024-06-27/
LOCATION:City Hall – C Room\, 1 Public Square\, Willoughby\, OH\, 44094\, United States
CATEGORIES:Planning Commission,Public Meetings
END:VEVENT
BEGIN:VEVENT
DTSTART;TZID=America/Chicago:20240627T190000
DTEND;TZID=America/Chicago:20240627T210000
DTSTAMP:20260425T092602
CREATED:20240402T120343Z
LAST-MODIFIED:20240411T134731Z
UID:32216-1719514800-1719522000@willoughbyohio.com
SUMMARY:Summer Concert - LIGHT OF 2 MOONS
DESCRIPTION:Light of 2 Moons is a Cleveland\, Ohio based group with a unique mix of music from island sounds to classic rock\, blues\, country and maybe even an old folk tune here and there.  Light of 2 Moons is well-known for a fabulous blend of vocal harmonies providing a night of listening\, singing along and remembering some great old tunes. \nCheck out the band here: https://www.lightof2moons.com/
URL:https://willoughbyohio.com/event/summer-concert-light-of-2-moons/
LOCATION:Wes Point Park\, Wes Point Park\, Willoughby\, 44094\, United States
CATEGORIES:Community
ATTACH;FMTTYPE=image/png:https://willoughbyohio.com/wp-content/uploads/2024/04/light-of-two-moons-for-website.png.opt412x533o00s412x533.png
END:VEVENT
END:VCALENDAR