BEGIN:VCALENDAR
VERSION:2.0
PRODID:-//City of Willoughby, Ohio - ECPv6.15.20//NONSGML v1.0//EN
CALSCALE:GREGORIAN
METHOD:PUBLISH
X-ORIGINAL-URL:https://willoughbyohio.com
X-WR-CALDESC:Events for City of Willoughby, Ohio
REFRESH-INTERVAL;VALUE=DURATION:PT1H
X-Robots-Tag:noindex
X-PUBLISHED-TTL:PT1H
BEGIN:VTIMEZONE
TZID:America/Chicago
BEGIN:DAYLIGHT
TZOFFSETFROM:-0600
TZOFFSETTO:-0500
TZNAME:CDT
DTSTART:20230312T080000
END:DAYLIGHT
BEGIN:STANDARD
TZOFFSETFROM:-0500
TZOFFSETTO:-0600
TZNAME:CST
DTSTART:20231105T070000
END:STANDARD
BEGIN:DAYLIGHT
TZOFFSETFROM:-0600
TZOFFSETTO:-0500
TZNAME:CDT
DTSTART:20240310T080000
END:DAYLIGHT
BEGIN:STANDARD
TZOFFSETFROM:-0500
TZOFFSETTO:-0600
TZNAME:CST
DTSTART:20241103T070000
END:STANDARD
BEGIN:DAYLIGHT
TZOFFSETFROM:-0600
TZOFFSETTO:-0500
TZNAME:CDT
DTSTART:20250309T080000
END:DAYLIGHT
BEGIN:STANDARD
TZOFFSETFROM:-0500
TZOFFSETTO:-0600
TZNAME:CST
DTSTART:20251102T070000
END:STANDARD
END:VTIMEZONE
BEGIN:VEVENT
DTSTART;TZID=America/Chicago:20240722T180000
DTEND;TZID=America/Chicago:20240722T190000
DTSTAMP:20260424T183825
CREATED:20200720T124107Z
LAST-MODIFIED:20240716T125121Z
UID:30275-1721671200-1721674800@willoughbyohio.com
SUMMARY:Sign Review Board-Canceled
DESCRIPTION:
URL:https://willoughbyohio.com/event/sign-review-board-2-2020-08-24-2021-11-22-2022-11-28-2024-07-22/
LOCATION:City Hall – C Room\, 1 Public Square\, Willoughby\, OH\, 44094\, United States
CATEGORIES:Public Meetings,Sign Review Board
END:VEVENT
BEGIN:VEVENT
DTSTART;TZID=America/Chicago:20240724T183000
DTEND;TZID=America/Chicago:20240724T203000
DTSTAMP:20260424T183825
CREATED:20230417T170019Z
LAST-MODIFIED:20240722T152805Z
UID:30979-1721845800-1721853000@willoughbyohio.com
SUMMARY:Summer Concert - TRICKY DICK & THE COVER-UPS
DESCRIPTION:Rescheduled from July 10th\n\nBring a blanket or chair and join us for an evening singing and dancing to your favorite Top 40 hits with Tricky Dick & the Cover-Ups!\nFood trucks and beer/wine tent open at 5:30 pm. Concert from 6:30pm – 8:30pm at the pavilion by the lake.\n\nCheck out the band here: https://www.facebook.com/trickydickcoverband
URL:https://willoughbyohio.com/event/summer-concert-tricky-dick-the-cover-ups/
LOCATION:osborne park\, 38575 Lakeshore Blvd\, Willoughby\, OH\, 44094\, United States
CATEGORIES:Community
ATTACH;FMTTYPE=image/jpeg:https://willoughbyohio.com/wp-content/uploads/2023/04/tricky-dick-and-the-cover-ups.jpg
END:VEVENT
BEGIN:VEVENT
DTSTART;TZID=America/Chicago:20240724T190000
DTEND;TZID=America/Chicago:20240724T210000
DTSTAMP:20260424T183825
CREATED:20230209T130550Z
LAST-MODIFIED:20240822T190215Z
UID:30624-1721847600-1721854800@willoughbyohio.com
SUMMARY:Board of Zoning Appeals
DESCRIPTION:
URL:https://willoughbyohio.com/event/board-of-zoning-appeals-4-2024-07-24/
LOCATION:City Hall – C Room\, 1 Public Square\, Willoughby\, OH\, 44094\, United States
CATEGORIES:Board of Zoning Appeals,Public Meetings
END:VEVENT
BEGIN:VEVENT
DTSTART;TZID=America/Chicago:20240725T190000
DTEND;TZID=America/Chicago:20240725T210000
DTSTAMP:20260424T183825
CREATED:20221114T184220Z
LAST-MODIFIED:20240814T145310Z
UID:30360-1721934000-1721941200@willoughbyohio.com
SUMMARY:Planning Commission Meeting
DESCRIPTION:
URL:https://willoughbyohio.com/event/planning-commission-meeting-11-2024-07-25/
LOCATION:City Hall – C Room\, 1 Public Square\, Willoughby\, OH\, 44094\, United States
CATEGORIES:Planning Commission,Public Meetings
END:VEVENT
BEGIN:VEVENT
DTSTART;TZID=America/Chicago:20240725T190000
DTEND;TZID=America/Chicago:20240725T210000
DTSTAMP:20260424T183825
CREATED:20240409T173644Z
LAST-MODIFIED:20240725T140219Z
UID:32257-1721934000-1721941200@willoughbyohio.com
SUMMARY:Summer Concert - RUMOURS
DESCRIPTION:
URL:https://willoughbyohio.com/event/summer-concert-easy-glistening-2/
LOCATION:Wes Point Park\, Wes Point Park\, Willoughby\, 44094\, United States
CATEGORIES:Community
ATTACH;FMTTYPE=image/jpeg:https://willoughbyohio.com/wp-content/uploads/2024/04/rumors.jpeg
END:VEVENT
END:VCALENDAR