BEGIN:VCALENDAR
VERSION:2.0
PRODID:-//City of Willoughby, Ohio - ECPv6.15.20//NONSGML v1.0//EN
CALSCALE:GREGORIAN
METHOD:PUBLISH
X-ORIGINAL-URL:https://willoughbyohio.com
X-WR-CALDESC:Events for City of Willoughby, Ohio
REFRESH-INTERVAL;VALUE=DURATION:PT1H
X-Robots-Tag:noindex
X-PUBLISHED-TTL:PT1H
BEGIN:VTIMEZONE
TZID:America/Chicago
BEGIN:DAYLIGHT
TZOFFSETFROM:-0600
TZOFFSETTO:-0500
TZNAME:CDT
DTSTART:20230312T080000
END:DAYLIGHT
BEGIN:STANDARD
TZOFFSETFROM:-0500
TZOFFSETTO:-0600
TZNAME:CST
DTSTART:20231105T070000
END:STANDARD
BEGIN:DAYLIGHT
TZOFFSETFROM:-0600
TZOFFSETTO:-0500
TZNAME:CDT
DTSTART:20240310T080000
END:DAYLIGHT
BEGIN:STANDARD
TZOFFSETFROM:-0500
TZOFFSETTO:-0600
TZNAME:CST
DTSTART:20241103T070000
END:STANDARD
BEGIN:DAYLIGHT
TZOFFSETFROM:-0600
TZOFFSETTO:-0500
TZNAME:CDT
DTSTART:20250309T080000
END:DAYLIGHT
BEGIN:STANDARD
TZOFFSETFROM:-0500
TZOFFSETTO:-0600
TZNAME:CST
DTSTART:20251102T070000
END:STANDARD
END:VTIMEZONE
BEGIN:VEVENT
DTSTART;TZID=America/Chicago:20240812T180000
DTEND;TZID=America/Chicago:20240812T200000
DTSTAMP:20260423T031325
CREATED:20200615T201608Z
LAST-MODIFIED:20240611T111819Z
UID:30296-1723485600-1723492800@willoughbyohio.com
SUMMARY:Sign Review Board-Canceled
DESCRIPTION:
URL:https://willoughbyohio.com/event/sign-review-board-2021-12-13-2022-12-12-2024-08-12/
LOCATION:City Hall – C Room\, 1 Public Square\, Willoughby\, OH\, 44094\, United States
CATEGORIES:Public Meetings,Sign Review Board
END:VEVENT
BEGIN:VEVENT
DTSTART;TZID=America/Chicago:20240813T190000
DTEND;TZID=America/Chicago:20240813T200000
DTSTAMP:20260423T031325
CREATED:20220930T135310Z
LAST-MODIFIED:20240911T121635Z
UID:30073-1723575600-1723579200@willoughbyohio.com
SUMMARY:City Council Meeting
DESCRIPTION:
URL:https://willoughbyohio.com/event/city-council-meeting-5-2024-08-06/
LOCATION:City Hall – B and C Rooms\, 1 Public Square\, Willoughby\, OH\, 44094\, United States
CATEGORIES:City Council,Public Meetings
END:VEVENT
BEGIN:VEVENT
DTSTART;TZID=America/Chicago:20240814T183000
DTEND;TZID=America/Chicago:20240814T203000
DTSTAMP:20260423T031325
CREATED:20240321T141307Z
LAST-MODIFIED:20240321T141307Z
UID:32131-1723660200-1723667400@willoughbyohio.com
SUMMARY:Summer Concert - PIECES OF EIGHT
DESCRIPTION:Classic Rock with horns! You know the songs as soon as they start. This mixture of classic Rock & Roll and popular Rhythm & Blues is characterized as instantly recognizable songs. Eight veteran musicians with a dynamic horn section highlight the rest of the lineup of guitars\, keyboards and drums.\n\nBring a lawn chair or blanket for an evening of great music!\n\nFood trucks and beer/wine tent opens at 5:30 pm. Concert is from 6:30 pm – 8:30 pm at the pavilion by the lake.\n\nFood trucks:\nDynamite Dogs\nFungry\nKettle Corn Lou
URL:https://willoughbyohio.com/event/summer-concert-pieces-of-eight/
LOCATION:osborne park\, 38575 Lakeshore Blvd\, Willoughby\, OH\, 44094\, United States
CATEGORIES:Community
ATTACH;FMTTYPE=image/jpeg:https://willoughbyohio.com/wp-content/uploads/2021/06/pieces-of-eight.jpg
END:VEVENT
BEGIN:VEVENT
DTSTART;TZID=America/Chicago:20240814T190000
DTEND;TZID=America/Chicago:20240814T210000
DTSTAMP:20260423T031325
CREATED:20231004T133141Z
LAST-MODIFIED:20240904T121624Z
UID:31538-1723662000-1723669200@willoughbyohio.com
SUMMARY:Board of Zoning Appeals
DESCRIPTION:
URL:https://willoughbyohio.com/event/board-of-zoning-appeals-5-2024-08-14/
LOCATION:City Hall – C Room\, 1 Public Square\, Willoughby\, OH\, 44094\, United States
CATEGORIES:Board of Zoning Appeals,Public Meetings
END:VEVENT
BEGIN:VEVENT
DTSTART;TZID=America/Chicago:20240815T190000
DTEND;TZID=America/Chicago:20240815T210000
DTSTAMP:20260423T031325
CREATED:20240409T183122Z
LAST-MODIFIED:20240409T184333Z
UID:32267-1723748400-1723755600@willoughbyohio.com
SUMMARY:Summer Concert - The Diamond Project
DESCRIPTION:We close the summer concert series with a true replication of an energetic live Neil Diamond concert from The Diamond Project! \nLearn more about the band here: https://www.facebook.com/diamondprojectband
URL:https://willoughbyohio.com/event/summer-concert-the-diamond-project-2/
LOCATION:Wes Point Park\, Wes Point Park\, Willoughby\, 44094\, United States
CATEGORIES:Community
ATTACH;FMTTYPE=image/jpeg:https://willoughbyohio.com/wp-content/uploads/2021/06/the-diamond-project-logo.jpg
END:VEVENT
END:VCALENDAR