BEGIN:VCALENDAR
VERSION:2.0
PRODID:-//City of Willoughby, Ohio - ECPv6.15.20//NONSGML v1.0//EN
CALSCALE:GREGORIAN
METHOD:PUBLISH
X-ORIGINAL-URL:https://willoughbyohio.com
X-WR-CALDESC:Events for City of Willoughby, Ohio
REFRESH-INTERVAL;VALUE=DURATION:PT1H
X-Robots-Tag:noindex
X-PUBLISHED-TTL:PT1H
BEGIN:VTIMEZONE
TZID:America/Chicago
BEGIN:DAYLIGHT
TZOFFSETFROM:-0600
TZOFFSETTO:-0500
TZNAME:CDT
DTSTART:20230312T080000
END:DAYLIGHT
BEGIN:STANDARD
TZOFFSETFROM:-0500
TZOFFSETTO:-0600
TZNAME:CST
DTSTART:20231105T070000
END:STANDARD
BEGIN:DAYLIGHT
TZOFFSETFROM:-0600
TZOFFSETTO:-0500
TZNAME:CDT
DTSTART:20240310T080000
END:DAYLIGHT
BEGIN:STANDARD
TZOFFSETFROM:-0500
TZOFFSETTO:-0600
TZNAME:CST
DTSTART:20241103T070000
END:STANDARD
BEGIN:DAYLIGHT
TZOFFSETFROM:-0600
TZOFFSETTO:-0500
TZNAME:CDT
DTSTART:20250309T080000
END:DAYLIGHT
BEGIN:STANDARD
TZOFFSETFROM:-0500
TZOFFSETTO:-0600
TZNAME:CST
DTSTART:20251102T070000
END:STANDARD
END:VTIMEZONE
BEGIN:VEVENT
DTSTART;TZID=America/Chicago:20240918T183000
DTEND;TZID=America/Chicago:20240918T183000
DTSTAMP:20260421T174024
CREATED:20240904T122513Z
LAST-MODIFIED:20240916T192535Z
UID:32791-1726684200-1726684200@willoughbyohio.com
SUMMARY:Community Meeting - Euclid Ave Pool Master Plan
DESCRIPTION:The purpose of this meeting is to share ideas and gather community feedback about the Euclid Ave Pool Master Plan. City administration\, council members and representatives from Brandsetter Carroll Inc. design team will be in attendance. \nMeeting location: Willoughby Senior Center | 36939 Ridge Road
URL:https://willoughbyohio.com/event/community-meeting-euclid-ave-pool-master-plan/
LOCATION:Willoughby Senior Center\, 36939 Ridge Road\, Willoughby\, OH\, 44094\, United States
CATEGORIES:Community,Public Meetings
ATTACH;FMTTYPE=image/jpeg:https://willoughbyohio.com/wp-content/uploads/2024/09/euclid-pool-overhead-slide-shot-scaled.jpg
END:VEVENT
END:VCALENDAR