BEGIN:VCALENDAR
VERSION:2.0
PRODID:-//City of Willoughby, Ohio - ECPv6.15.20//NONSGML v1.0//EN
CALSCALE:GREGORIAN
METHOD:PUBLISH
X-WR-CALNAME:City of Willoughby, Ohio
X-ORIGINAL-URL:https://willoughbyohio.com
X-WR-CALDESC:Events for City of Willoughby, Ohio
REFRESH-INTERVAL;VALUE=DURATION:PT1H
X-Robots-Tag:noindex
X-PUBLISHED-TTL:PT1H
BEGIN:VTIMEZONE
TZID:America/Chicago
BEGIN:DAYLIGHT
TZOFFSETFROM:-0600
TZOFFSETTO:-0500
TZNAME:CDT
DTSTART:20230312T080000
END:DAYLIGHT
BEGIN:STANDARD
TZOFFSETFROM:-0500
TZOFFSETTO:-0600
TZNAME:CST
DTSTART:20231105T070000
END:STANDARD
BEGIN:DAYLIGHT
TZOFFSETFROM:-0600
TZOFFSETTO:-0500
TZNAME:CDT
DTSTART:20240310T080000
END:DAYLIGHT
BEGIN:STANDARD
TZOFFSETFROM:-0500
TZOFFSETTO:-0600
TZNAME:CST
DTSTART:20241103T070000
END:STANDARD
BEGIN:DAYLIGHT
TZOFFSETFROM:-0600
TZOFFSETTO:-0500
TZNAME:CDT
DTSTART:20250309T080000
END:DAYLIGHT
BEGIN:STANDARD
TZOFFSETFROM:-0500
TZOFFSETTO:-0600
TZNAME:CST
DTSTART:20251102T070000
END:STANDARD
END:VTIMEZONE
BEGIN:VEVENT
DTSTART;TZID=America/Chicago:20241009T190000
DTEND;TZID=America/Chicago:20241009T210000
DTSTAMP:20260420T092618
CREATED:20231004T133141Z
LAST-MODIFIED:20250828T151450Z
UID:31540-1728500400-1728507600@willoughbyohio.com
SUMMARY:Board of Zoning Appeals
DESCRIPTION:
URL:https://willoughbyohio.com/event/board-of-zoning-appeals-5-2024-10-09/
LOCATION:City Hall – C Room\, 1 Public Square\, Willoughby\, OH\, 44094\, United States
CATEGORIES:Board of Zoning Appeals,Public Meetings
END:VEVENT
BEGIN:VEVENT
DTSTART;TZID=America/Chicago:20241010T110000
DTEND;TZID=America/Chicago:20241010T120000
DTSTAMP:20260420T092618
CREATED:20241003T112518Z
LAST-MODIFIED:20241003T112640Z
UID:32898-1728558000-1728561600@willoughbyohio.com
SUMMARY:Groundbreaking - Chargrin River Floodplain Restoration & Trail Project
DESCRIPTION:Join us for a ceremonial groundbreaking for the Chagrin River Floodplain Restoration and Trail Project! \nRepresentatives from the administration\, city council\, elected officials\, and supporting agencies will be present to share information about the project.
URL:https://willoughbyohio.com/event/groundbreaking-chargrin-river-floodplain-restoration-trail-project/
LOCATION:Daniels Park
CATEGORIES:Community,Public Meetings
ATTACH;FMTTYPE=image/png:https://willoughbyohio.com/wp-content/uploads/2024/10/chagrin-river-floodplain-invite-.png
END:VEVENT
BEGIN:VEVENT
DTSTART;TZID=America/Chicago:20241010T190000
DTEND;TZID=America/Chicago:20241010T210000
DTSTAMP:20260420T092618
CREATED:20200616T180003Z
LAST-MODIFIED:20241202T142504Z
UID:30341-1728586800-1728594000@willoughbyohio.com
SUMMARY:Planning Commission Meeting
DESCRIPTION:
URL:https://willoughbyohio.com/event/planning-commission-meeting-9-2021-12-09-2022-12-08-2024-10-10/
LOCATION:City Hall – C Room\, 1 Public Square\, Willoughby\, OH\, 44094\, United States
CATEGORIES:Planning Commission,Public Meetings
END:VEVENT
END:VCALENDAR