BEGIN:VCALENDAR
VERSION:2.0
PRODID:-//City of Willoughby, Ohio - ECPv6.15.20//NONSGML v1.0//EN
CALSCALE:GREGORIAN
METHOD:PUBLISH
X-ORIGINAL-URL:https://willoughbyohio.com
X-WR-CALDESC:Events for City of Willoughby, Ohio
REFRESH-INTERVAL;VALUE=DURATION:PT1H
X-Robots-Tag:noindex
X-PUBLISHED-TTL:PT1H
BEGIN:VTIMEZONE
TZID:America/Chicago
BEGIN:DAYLIGHT
TZOFFSETFROM:-0600
TZOFFSETTO:-0500
TZNAME:CDT
DTSTART:20230312T080000
END:DAYLIGHT
BEGIN:STANDARD
TZOFFSETFROM:-0500
TZOFFSETTO:-0600
TZNAME:CST
DTSTART:20231105T070000
END:STANDARD
BEGIN:DAYLIGHT
TZOFFSETFROM:-0600
TZOFFSETTO:-0500
TZNAME:CDT
DTSTART:20240310T080000
END:DAYLIGHT
BEGIN:STANDARD
TZOFFSETFROM:-0500
TZOFFSETTO:-0600
TZNAME:CST
DTSTART:20241103T070000
END:STANDARD
BEGIN:DAYLIGHT
TZOFFSETFROM:-0600
TZOFFSETTO:-0500
TZNAME:CDT
DTSTART:20250309T080000
END:DAYLIGHT
BEGIN:STANDARD
TZOFFSETFROM:-0500
TZOFFSETTO:-0600
TZNAME:CST
DTSTART:20251102T070000
END:STANDARD
END:VTIMEZONE
BEGIN:VEVENT
DTSTART;TZID=America/Chicago:20241111T180000
DTEND;TZID=America/Chicago:20241111T200000
DTSTAMP:20260421T225457
CREATED:20200615T201608Z
LAST-MODIFIED:20240911T150211Z
UID:30299-1731348000-1731355200@willoughbyohio.com
SUMMARY:Sign Review Board-Canceled
DESCRIPTION:
URL:https://willoughbyohio.com/event/sign-review-board-2021-12-13-2022-12-12-2024-11-11/
LOCATION:City Hall – C Room\, 1 Public Square\, Willoughby\, OH\, 44094\, United States
CATEGORIES:Public Meetings,Sign Review Board
END:VEVENT
BEGIN:VEVENT
DTSTART;TZID=America/Chicago:20241113T190000
DTEND;TZID=America/Chicago:20241113T210000
DTSTAMP:20260421T225457
CREATED:20231004T133141Z
LAST-MODIFIED:20241212T133841Z
UID:31541-1731524400-1731531600@willoughbyohio.com
SUMMARY:Board of Zoning Appeals
DESCRIPTION:
URL:https://willoughbyohio.com/event/board-of-zoning-appeals-5-2024-11-13/
LOCATION:City Hall – C Room\, 1 Public Square\, Willoughby\, OH\, 44094\, United States
CATEGORIES:Board of Zoning Appeals,Public Meetings
END:VEVENT
BEGIN:VEVENT
DTSTART;TZID=America/Chicago:20241114T190000
DTEND;TZID=America/Chicago:20241114T210000
DTSTAMP:20260421T225457
CREATED:20200616T180003Z
LAST-MODIFIED:20241213T141441Z
UID:30371-1731610800-1731618000@willoughbyohio.com
SUMMARY:Planning Commission Meeting
DESCRIPTION:
URL:https://willoughbyohio.com/event/planning-commission-meeting-9-2021-12-09-2022-12-08-2024-10-10-2024-11-14/
LOCATION:City Hall – C Room\, 1 Public Square\, Willoughby\, OH\, 44094\, United States
CATEGORIES:Planning Commission,Public Meetings
END:VEVENT
END:VCALENDAR