BEGIN:VCALENDAR
VERSION:2.0
PRODID:-//City of Willoughby, Ohio - ECPv6.15.20//NONSGML v1.0//EN
CALSCALE:GREGORIAN
METHOD:PUBLISH
X-ORIGINAL-URL:https://willoughbyohio.com
X-WR-CALDESC:Events for City of Willoughby, Ohio
REFRESH-INTERVAL;VALUE=DURATION:PT1H
X-Robots-Tag:noindex
X-PUBLISHED-TTL:PT1H
BEGIN:VTIMEZONE
TZID:America/New_York
BEGIN:DAYLIGHT
TZOFFSETFROM:-0500
TZOFFSETTO:-0400
TZNAME:EDT
DTSTART:20240310T070000
END:DAYLIGHT
BEGIN:STANDARD
TZOFFSETFROM:-0400
TZOFFSETTO:-0500
TZNAME:EST
DTSTART:20241103T060000
END:STANDARD
BEGIN:DAYLIGHT
TZOFFSETFROM:-0500
TZOFFSETTO:-0400
TZNAME:EDT
DTSTART:20250309T070000
END:DAYLIGHT
BEGIN:STANDARD
TZOFFSETFROM:-0400
TZOFFSETTO:-0500
TZNAME:EST
DTSTART:20251102T060000
END:STANDARD
BEGIN:DAYLIGHT
TZOFFSETFROM:-0500
TZOFFSETTO:-0400
TZNAME:EDT
DTSTART:20260308T070000
END:DAYLIGHT
BEGIN:STANDARD
TZOFFSETFROM:-0400
TZOFFSETTO:-0500
TZNAME:EST
DTSTART:20261101T060000
END:STANDARD
END:VTIMEZONE
BEGIN:VEVENT
DTSTART;TZID=America/New_York:20250820T183000
DTEND;TZID=America/New_York:20250820T203000
DTSTAMP:20260421T204205
CREATED:20250402T135538Z
LAST-MODIFIED:20250716T181641Z
UID:34064-1755714600-1755721800@willoughbyohio.com
SUMMARY:Summer Concert - Pieces of Eight
DESCRIPTION:This concert was rescheduled from July 16th. \n\nGet ready for a high-energy night of classic rock & rhythm and blues! Featuring eight veteran musicians\, a dynamic horn section\, and a powerhouse lineup of guitars\, keyboards\, and drums\, this band brings instantly recognizable hits to life from the moment they start playing. \n🌭 Food trucks: Dynamite Dawgs & Fungry \n🍿 Stands: Kettle Corn Lou & Willoughby Wildcats Baseball \n🎧 Check out the band on Facebook: Pieces of Eight
URL:https://willoughbyohio.com/event/summer-concert-pieces-of-eight-2/
LOCATION:osborne park\, 38575 Lakeshore Blvd\, Willoughby\, OH\, 44094\, United States
CATEGORIES:Community
ATTACH;FMTTYPE=image/jpeg:https://willoughbyohio.com/wp-content/uploads/2025/04/pieces-of-eight.jpg
END:VEVENT
BEGIN:VEVENT
DTSTART;TZID=America/New_York:20250821T183000
DTEND;TZID=America/New_York:20250821T203000
DTSTAMP:20260421T204205
CREATED:20250403T140240Z
LAST-MODIFIED:20250702T122019Z
UID:34085-1755801000-1755808200@willoughbyohio.com
SUMMARY:Summer Concert - Pet the Cougar
DESCRIPTION:  \nGet ready for an unforgettable night with Pet the Cougar! This fantastic group delivers an energetic combo concert featuring the greatest hits of Tom Petty and John Cougar Mellencamp. From timeless classics to crowd favorites\, their performance will have you rocking and singing all night. Don’t miss out on this incredible tribute to two iconic artists 🎶 \n🎧 Check out the band on Facebook: Pet the Cougar \n*this concert was orginally scheduled for June 19th but was rescheduled due to weather.
URL:https://willoughbyohio.com/event/summer-concert-pet-the-cougar-2/
LOCATION:Wes Point Park\, Wes Point Park\, Willoughby\, 44094\, United States
CATEGORIES:Community
ATTACH;FMTTYPE=image/jpeg:https://willoughbyohio.com/wp-content/uploads/2025/04/484171166_989817763250711_7732430825105713791_n.jpg
END:VEVENT
BEGIN:VEVENT
DTSTART;TZID=America/New_York:20250823T100000
DTEND;TZID=America/New_York:20250823T160000
DTSTAMP:20260421T204205
CREATED:20250403T133110Z
LAST-MODIFIED:20250403T133110Z
UID:34080-1755943200-1755964800@willoughbyohio.com
SUMMARY:Willoughby Pop-Up by the Lake
DESCRIPTION:Join us for a day of creativity and community at the Willoughby Pop-Up by the Lake! Browse a unique selection of handmade art\, crafts\, and one-of-a-kind goods from talented local vendors. \n🛍️ Handmade arts & crafts from local vendors \n🍔 Food trucks on-site \n🌊 Beautiful lakeside setting \n🎟️ Free admission \n With a lively\, welcoming atmosphere\, this is the perfect way to spend a summer day!
URL:https://willoughbyohio.com/event/willoughby-pop-up-by-the-lake/
LOCATION:osborne park\, 38575 Lakeshore Blvd\, Willoughby\, OH\, 44094\, United States
CATEGORIES:Community
ATTACH;FMTTYPE=image/jpeg:https://willoughbyohio.com/wp-content/uploads/2025/03/480271861_1223251609807734_7788369109584042899_n.jpg
ORGANIZER;CN="Avant-Garde Art &amp%3B Craft Shows":MAILTO:Becki@ag-shows.com
END:VEVENT
END:VCALENDAR